BEGIN:VCALENDAR
VERSION:2.0
PRODID:-//Alabama Association of Colleges and Employers - ECPv6.15.20//NONSGML v1.0//EN
CALSCALE:GREGORIAN
METHOD:PUBLISH
X-ORIGINAL-URL:https://aaceal.com
X-WR-CALDESC:Events for Alabama Association of Colleges and Employers
REFRESH-INTERVAL;VALUE=DURATION:PT1H
X-Robots-Tag:noindex
X-PUBLISHED-TTL:PT1H
BEGIN:VTIMEZONE
TZID:America/Chicago
BEGIN:DAYLIGHT
TZOFFSETFROM:-0600
TZOFFSETTO:-0500
TZNAME:CDT
DTSTART:20230312T080000
END:DAYLIGHT
BEGIN:STANDARD
TZOFFSETFROM:-0500
TZOFFSETTO:-0600
TZNAME:CST
DTSTART:20231105T070000
END:STANDARD
BEGIN:DAYLIGHT
TZOFFSETFROM:-0600
TZOFFSETTO:-0500
TZNAME:CDT
DTSTART:20240310T080000
END:DAYLIGHT
BEGIN:STANDARD
TZOFFSETFROM:-0500
TZOFFSETTO:-0600
TZNAME:CST
DTSTART:20241103T070000
END:STANDARD
BEGIN:DAYLIGHT
TZOFFSETFROM:-0600
TZOFFSETTO:-0500
TZNAME:CDT
DTSTART:20250309T080000
END:DAYLIGHT
BEGIN:STANDARD
TZOFFSETFROM:-0500
TZOFFSETTO:-0600
TZNAME:CST
DTSTART:20251102T070000
END:STANDARD
END:VTIMEZONE
BEGIN:VEVENT
DTSTART;TZID=America/Chicago:20241106T090000
DTEND;TZID=America/Chicago:20241106T100000
DTSTAMP:20260425T101502
CREATED:20241030T143509Z
LAST-MODIFIED:20241030T144802Z
UID:5083-1730883600-1730887200@aaceal.com
SUMMARY:AACE Coffee Chat- Workforce Development
DESCRIPTION:November 6th\, we will be hosting Courtney Taylor\, Executive Director of Mississippi’s Office of Workforce Development\, who will speak on the topic of workforce development. 
URL:https://aaceal.com/event/aace-coffee-chat-workforce-development/
LOCATION:Virtual Event
CATEGORIES:Coffee Chat
END:VEVENT
BEGIN:VEVENT
DTSTART;VALUE=DATE:20241113
DTEND;VALUE=DATE:20241114
DTSTAMP:20260425T101502
CREATED:20241106T174217Z
LAST-MODIFIED:20241106T174217Z
UID:5093-1731456000-1731542399@aaceal.com
SUMMARY:AACE Day!
DESCRIPTION:This day is set aside to promote AACE!  Please wear your AACE t-shirt from the Summer Conference or other AACE related attire. \nWe would love to see everyone representing AACE on the Coffee Chat and on social media. We would also love to see photos of you in your shirt shared to LinkedIn and our AACE LinkedIn Group. \nPlease help spread the word about AACE!
URL:https://aaceal.com/event/aace-day/
LOCATION:Virtual Event
CATEGORIES:Networking Event
END:VEVENT
BEGIN:VEVENT
DTSTART;TZID=America/Chicago:20241113T090000
DTEND;TZID=America/Chicago:20241113T100000
DTSTAMP:20260425T101502
CREATED:20241030T144735Z
LAST-MODIFIED:20241106T173552Z
UID:5085-1731488400-1731492000@aaceal.com
SUMMARY:AACE Coffee Chat- Info Session
DESCRIPTION:Are you interested in learning more about AACE? Make plans to attend this Coffee Chat!
URL:https://aaceal.com/event/aace-coffee-chat-info-session/
LOCATION:Virtual Event
CATEGORIES:Coffee Chat
END:VEVENT
END:VCALENDAR