BEGIN:VCALENDAR
VERSION:2.0
PRODID:-//Alabama Association of Colleges and Employers - ECPv6.15.20//NONSGML v1.0//EN
CALSCALE:GREGORIAN
METHOD:PUBLISH
X-WR-CALNAME:Alabama Association of Colleges and Employers
X-ORIGINAL-URL:https://aaceal.com
X-WR-CALDESC:Events for Alabama Association of Colleges and Employers
REFRESH-INTERVAL;VALUE=DURATION:PT1H
X-Robots-Tag:noindex
X-PUBLISHED-TTL:PT1H
BEGIN:VTIMEZONE
TZID:America/Chicago
BEGIN:DAYLIGHT
TZOFFSETFROM:-0600
TZOFFSETTO:-0500
TZNAME:CDT
DTSTART:20230312T080000
END:DAYLIGHT
BEGIN:STANDARD
TZOFFSETFROM:-0500
TZOFFSETTO:-0600
TZNAME:CST
DTSTART:20231105T070000
END:STANDARD
BEGIN:DAYLIGHT
TZOFFSETFROM:-0600
TZOFFSETTO:-0500
TZNAME:CDT
DTSTART:20240310T080000
END:DAYLIGHT
BEGIN:STANDARD
TZOFFSETFROM:-0500
TZOFFSETTO:-0600
TZNAME:CST
DTSTART:20241103T070000
END:STANDARD
BEGIN:DAYLIGHT
TZOFFSETFROM:-0600
TZOFFSETTO:-0500
TZNAME:CDT
DTSTART:20250309T080000
END:DAYLIGHT
BEGIN:STANDARD
TZOFFSETFROM:-0500
TZOFFSETTO:-0600
TZNAME:CST
DTSTART:20251102T070000
END:STANDARD
END:VTIMEZONE
BEGIN:VEVENT
DTSTART;TZID=America/Chicago:20240913T090000
DTEND;TZID=America/Chicago:20240913T120000
DTSTAMP:20260425T123104
CREATED:20240805T164905Z
LAST-MODIFIED:20240813T131731Z
UID:4938-1726218000-1726228800@aaceal.com
SUMMARY:College of Arts\, Humanities\, and Social Sciences College and Career Fair
DESCRIPTION:This event is specifically for students within the College of Arts\, Humanities\, and Social Sciences Majors and Minors at UAH. To see a list of our majors and minors go to: https://www.uah.edu/ahs
URL:https://aaceal.com/event/college-of-arts-humanities-and-social-sciences-college-and-career-fair/
LOCATION:Morton Hall- UAH\, 1310 Ben Graves Drive\, Huntsville\, AL\, 35899\, United States
CATEGORIES:Career Fair
ORGANIZER;CN="UAH Career Services%3A Nicole McDavid":MAILTO:nicole.mcdavid@uah.edu
END:VEVENT
BEGIN:VEVENT
DTSTART;TZID=America/Chicago:20240919T100000
DTEND;TZID=America/Chicago:20240919T180000
DTSTAMP:20260425T123104
CREATED:20240813T131448Z
LAST-MODIFIED:20240813T131448Z
UID:5005-1726740000-1726768800@aaceal.com
SUMMARY:Fall Job Fair
DESCRIPTION:
URL:https://aaceal.com/event/fall-job-fair/
LOCATION:Calhoun Community College- Huntsville Campus\, Sparkman Building\, Huntsville\, AL\, United States
CATEGORIES:Career Fair
ORGANIZER;CN="Calhoun Community College- Rachel Reid":MAILTO:rachel.reid@calhoun.edu
END:VEVENT
BEGIN:VEVENT
DTSTART;TZID=America/Chicago:20240925T100000
DTEND;TZID=America/Chicago:20240925T120000
DTSTAMP:20260425T123104
CREATED:20240701T172717Z
LAST-MODIFIED:20240813T131719Z
UID:4781-1727258400-1727265600@aaceal.com
SUMMARY:Education Career Fair
DESCRIPTION:
URL:https://aaceal.com/event/education-career-fair-2/
LOCATION:Hawkins Hall\, Troy University Campus\, Troy\, AL\, Hawkins Hall\, Troy\, AL\, 36082\, United States
CATEGORIES:Career Fair
ORGANIZER;CN="Troy University's Office of Career Services- Lauren Cole":MAILTO:troycareer@troy.edu or lscole@troy.edu
END:VEVENT
END:VCALENDAR