BEGIN:VCALENDAR
VERSION:2.0
PRODID:-//Alabama Association of Colleges and Employers - ECPv6.15.20//NONSGML v1.0//EN
CALSCALE:GREGORIAN
METHOD:PUBLISH
X-WR-CALNAME:Alabama Association of Colleges and Employers
X-ORIGINAL-URL:https://aaceal.com
X-WR-CALDESC:Events for Alabama Association of Colleges and Employers
REFRESH-INTERVAL;VALUE=DURATION:PT1H
X-Robots-Tag:noindex
X-PUBLISHED-TTL:PT1H
BEGIN:VTIMEZONE
TZID:America/Chicago
BEGIN:DAYLIGHT
TZOFFSETFROM:-0600
TZOFFSETTO:-0500
TZNAME:CDT
DTSTART:20180311T080000
END:DAYLIGHT
BEGIN:STANDARD
TZOFFSETFROM:-0500
TZOFFSETTO:-0600
TZNAME:CST
DTSTART:20181104T070000
END:STANDARD
BEGIN:DAYLIGHT
TZOFFSETFROM:-0600
TZOFFSETTO:-0500
TZNAME:CDT
DTSTART:20190310T080000
END:DAYLIGHT
BEGIN:STANDARD
TZOFFSETFROM:-0500
TZOFFSETTO:-0600
TZNAME:CST
DTSTART:20191103T070000
END:STANDARD
BEGIN:DAYLIGHT
TZOFFSETFROM:-0600
TZOFFSETTO:-0500
TZNAME:CDT
DTSTART:20200308T080000
END:DAYLIGHT
BEGIN:STANDARD
TZOFFSETFROM:-0500
TZOFFSETTO:-0600
TZNAME:CST
DTSTART:20201101T070000
END:STANDARD
BEGIN:DAYLIGHT
TZOFFSETFROM:-0600
TZOFFSETTO:-0500
TZNAME:CDT
DTSTART:20210314T080000
END:DAYLIGHT
BEGIN:STANDARD
TZOFFSETFROM:-0500
TZOFFSETTO:-0600
TZNAME:CST
DTSTART:20211107T070000
END:STANDARD
BEGIN:DAYLIGHT
TZOFFSETFROM:-0600
TZOFFSETTO:-0500
TZNAME:CDT
DTSTART:20220313T080000
END:DAYLIGHT
BEGIN:STANDARD
TZOFFSETFROM:-0500
TZOFFSETTO:-0600
TZNAME:CST
DTSTART:20221106T070000
END:STANDARD
BEGIN:DAYLIGHT
TZOFFSETFROM:-0600
TZOFFSETTO:-0500
TZNAME:CDT
DTSTART:20230312T080000
END:DAYLIGHT
BEGIN:STANDARD
TZOFFSETFROM:-0500
TZOFFSETTO:-0600
TZNAME:CST
DTSTART:20231105T070000
END:STANDARD
BEGIN:DAYLIGHT
TZOFFSETFROM:-0600
TZOFFSETTO:-0500
TZNAME:CDT
DTSTART:20240310T080000
END:DAYLIGHT
BEGIN:STANDARD
TZOFFSETFROM:-0500
TZOFFSETTO:-0600
TZNAME:CST
DTSTART:20241103T070000
END:STANDARD
END:VTIMEZONE
BEGIN:VEVENT
DTSTART;TZID=America/Chicago:20230208T130000
DTEND;TZID=America/Chicago:20230208T160000
DTSTAMP:20260425T115408
CREATED:20221219T170650Z
LAST-MODIFIED:20230104T142542Z
UID:3637-1675861200-1675872000@aaceal.com
SUMMARY:TROY University Computer Science & Technology Fair
DESCRIPTION:TROY University Computer Science & Technology Fair  \nFebruary 8\, 2023\n1-4pm \nTROY University Trojan Center Ballroom \nRegistration in Handshake \nor \ncontact Lauren Cole at lscole@troy.edu/334.670.3216
URL:https://aaceal.com/event/troy-university-computer-science-technology-fair/
END:VEVENT
BEGIN:VEVENT
DTSTART;TZID=America/Chicago:20230208T120000
DTEND;TZID=America/Chicago:20230208T150000
DTSTAMP:20260425T115408
CREATED:20221219T165653Z
LAST-MODIFIED:20230104T142015Z
UID:3631-1675857600-1675868400@aaceal.com
SUMMARY:The University of Alabama Health & Social Services Fair
DESCRIPTION:The University of Alabama Health & Social Services Fair\nFebruary 8\, 2023\n12pm- 3pm\nThe University of Alabama Student Center \n  \nRegistration is open in Handshake\, or contact @hnsabbagh@ua.edu
URL:https://aaceal.com/event/the-university-of-alabama-health-social-services-fair/
END:VEVENT
BEGIN:VEVENT
DTSTART;TZID=America/Chicago:20230207T110000
DTEND;TZID=America/Chicago:20230207T150000
DTSTAMP:20260425T115408
CREATED:20230119T153807Z
LAST-MODIFIED:20230119T153807Z
UID:3740-1675767600-1675782000@aaceal.com
SUMMARY:University of South Alabama HireAJag Career Fair
DESCRIPTION:University of South Alabama HireAJag Career Fair  \nFebruary 7\, 2023\n11am -3pm  \nUniversity of South Alabama \nMitchell Center Grand Lobby  \nRegistration open in Handshake or for more information contact Career Services @ csemployerteam@southalabama.edu
URL:https://aaceal.com/event/university-of-south-alabama-hireajag-career-fair-2/
END:VEVENT
BEGIN:VEVENT
DTSTART;TZID=America/Chicago:20230207T100000
DTEND;TZID=America/Chicago:20230207T160000
DTSTAMP:20260425T115408
CREATED:20230104T145443Z
LAST-MODIFIED:20230104T145443Z
UID:3678-1675764000-1675785600@aaceal.com
SUMMARY:AUBURN University Building Science Fair
DESCRIPTION:AUBURN University Building Science Fair  \nFebruary 7\, 2023\n10 am -4 pm \nAUBURN University Auburn Hotel & Conference Center  \nRegistration Open on Handshake\nor contact Angie White\, acw0084@auburn.edu
URL:https://aaceal.com/event/auburn-university-building-science-fair/
END:VEVENT
BEGIN:VEVENT
DTSTART;TZID=America/Chicago:20230203T073000
DTEND;TZID=America/Chicago:20230203T120000
DTSTAMP:20260425T115408
CREATED:20230119T154927Z
LAST-MODIFIED:20230119T155049Z
UID:3747-1675409400-1675425600@aaceal.com
SUMMARY:Calhoun Community College Employer Day
DESCRIPTION:Calhoun Community College \nEmployer Day  \nFebruary 3\, 2023\n7:30am -12:00 pm \nCalhoun Community College\, Alabama Center for the Arts \nRegister @ www.calhoun.edu/employerday
URL:https://aaceal.com/event/calhoun-community-college-employer-day/
END:VEVENT
BEGIN:VEVENT
DTSTART;TZID=America/Chicago:20230201T090000
DTEND;TZID=America/Chicago:20230201T100000
DTSTAMP:20260425T115408
CREATED:20230124T133535Z
LAST-MODIFIED:20230124T133535Z
UID:3761-1675242000-1675245600@aaceal.com
SUMMARY:AACE February Coffee Chat: Impact of Work Base Learning
DESCRIPTION:Join AACE February 1st @ 9am via Zoom\nto learn more how Work Base Learning is growing!!! \n \n 
URL:https://aaceal.com/event/aace-february-coffee-chat-impact-of-work-base-learning/
END:VEVENT
BEGIN:VEVENT
DTSTART;TZID=America/Chicago:20230126T150000
DTEND;TZID=America/Chicago:20230126T190000
DTSTAMP:20260425T115408
CREATED:20230104T135707Z
LAST-MODIFIED:20230104T135707Z
UID:3661-1674745200-1674759600@aaceal.com
SUMMARY:AUBURN University Part Time Job Fair
DESCRIPTION:AUBURN University Part Time Job Fair \nJanuary 26\, 2023\n3-7 pm \nAUBURN University Student ACT \nRegistration open in Handshake \nor contact Mary Emma Stephens @Mes0147@auburn.edu \n 
URL:https://aaceal.com/event/auburn-university-part-time-job-fair/
END:VEVENT
BEGIN:VEVENT
DTSTART;TZID=America/Chicago:20230124T160000
DTEND;TZID=America/Chicago:20230124T200000
DTSTAMP:20260425T115408
CREATED:20230104T144929Z
LAST-MODIFIED:20230104T144929Z
UID:3676-1674576000-1674590400@aaceal.com
SUMMARY:AUBURN University Meet The Firms- Virtual Accounting Fair
DESCRIPTION:AUBURN University Meet The Firms- Virtual Accounting Fair  \nJanuary 24\,2023\n4-8pm \nVirtual Fair  \nRegistration Open on Handshake \nor contact Colby Lakas\, chl0009@auburn.edu
URL:https://aaceal.com/event/auburn-university-meet-the-firms-virtual-accounting-fair/
END:VEVENT
BEGIN:VEVENT
DTSTART;TZID=America/Chicago:20230124T120000
DTEND;TZID=America/Chicago:20230124T160000
DTSTAMP:20260425T115408
CREATED:20230104T144142Z
LAST-MODIFIED:20230104T144142Z
UID:3673-1674561600-1674576000@aaceal.com
SUMMARY:AUBURN University Law School Fair
DESCRIPTION:AUBURN University Law School Fair  \nJanuary 24\, 2023\n12-4 pm \nAUBURN University Melton Student Center  \nRegistration Open on Handshake \nor\ncontact Debra Armstrong-Wright\, debraarmstrongwright@gmail.com
URL:https://aaceal.com/event/auburn-university-law-school-fair/
END:VEVENT
BEGIN:VEVENT
DTSTART;VALUE=DATE:20230119
DTEND;VALUE=DATE:20230121
DTSTAMP:20260425T115408
CREATED:20221109T214338Z
LAST-MODIFIED:20221109T214849Z
UID:3569-1674086400-1674259199@aaceal.com
SUMMARY:Winter Workshop 2023
DESCRIPTION:Join us for ACCE’s Winter Workshop \nJanuary 19th-20th \nhosted by The University of West Alabama
URL:https://aaceal.com/event/winter-workshop/
END:VEVENT
BEGIN:VEVENT
DTSTART;TZID=America/Chicago:20230110T100000
DTEND;TZID=America/Chicago:20230110T120000
DTSTAMP:20260425T115408
CREATED:20230104T143110Z
LAST-MODIFIED:20230104T143110Z
UID:3667-1673344800-1673352000@aaceal.com
SUMMARY:AUBURN University College of Nursing Career Fair
DESCRIPTION:AUBURN University College of Nursing Career Fair\nJanuary 10\,2023\n10 am- 12 pm \nAuburn University\n710 South Donahue Drive \nRegistration open on Handshake \nor contact Karen Dabbs at dabbskf@auburn.edu
URL:https://aaceal.com/event/auburn-university-college-of-nursing-career-fair/
END:VEVENT
BEGIN:VEVENT
DTSTART;TZID=America/Chicago:20221207T090000
DTEND;TZID=America/Chicago:20221207T100000
DTSTAMP:20260425T115408
CREATED:20221109T214647Z
LAST-MODIFIED:20221109T214647Z
UID:3562-1670403600-1670407200@aaceal.com
SUMMARY:AACE December COFFEE CHAT
DESCRIPTION:Please join us as we discuss  “Building Relationships with Faculty” \n 
URL:https://aaceal.com/event/aace-december-coffee-chat/
END:VEVENT
BEGIN:VEVENT
DTSTART;TZID=America/Chicago:20221109T090000
DTEND;TZID=America/Chicago:20221109T100000
DTSTAMP:20260425T115408
CREATED:20221024T141325Z
LAST-MODIFIED:20221024T162205Z
UID:3532-1667984400-1667988000@aaceal.com
SUMMARY:Why AACE? Benefits of AACE Information Session
DESCRIPTION:Please Join us November 9th @ 9am to learn to value of being an AACE Member!!! \n  \nVirtual Registration Link: https://forms.gle/Venp8Zem12Q7CCos6\n \n  \n 
URL:https://aaceal.com/event/why-aace-benefits-of-aace-information-session/
LOCATION:Virtual Event
END:VEVENT
BEGIN:VEVENT
DTSTART;TZID=America/Chicago:20221102T090000
DTEND;TZID=America/Chicago:20221102T100000
DTSTAMP:20260425T115408
CREATED:20221006T150728Z
LAST-MODIFIED:20221006T150728Z
UID:3507-1667379600-1667383200@aaceal.com
SUMMARY:Nov 2\, 2022 Coffee Chat
DESCRIPTION:Join Us on November 2nd as we host a college student panel to hear student perspectives on How to Recruit Students!
URL:https://aaceal.com/event/nov-2-2022-coffee-chat/
LOCATION:Virtual Event
CATEGORIES:Coffee Chat
END:VEVENT
BEGIN:VEVENT
DTSTART;TZID=America/Chicago:20221005T090000
DTEND;TZID=America/Chicago:20221005T100000
DTSTAMP:20260425T115408
CREATED:20220916T124919Z
LAST-MODIFIED:20220916T124919Z
UID:3495-1664960400-1664964000@aaceal.com
SUMMARY:October 5th Coffee Chat
DESCRIPTION:Join ACCE executive Board as we discuss “Why Partner with Career Services”? \nAACCE will be consorting with LACE to share insight into the advantages\nof partnering with Career Services to build your talent pipeline for college recruitment and entry level talent. \n 
URL:https://aaceal.com/event/october-5th-coffee-chat/
LOCATION:Virtual Event
END:VEVENT
BEGIN:VEVENT
DTSTART;VALUE=DATE:20220726
DTEND;VALUE=DATE:20220729
DTSTAMP:20260425T115408
CREATED:20220124T150346Z
LAST-MODIFIED:20220124T150620Z
UID:3101-1658793600-1659052799@aaceal.com
SUMMARY:AACE 2022 Summer Conference
DESCRIPTION:
URL:https://aaceal.com/event/aace-2022-summer-conference/
LOCATION:Marriott Shoals Hotel & Spa\, 10 Hightower Pl\, Florence\, AL\, 35630\, United States
CATEGORIES:Conference
END:VEVENT
BEGIN:VEVENT
DTSTART;TZID=America/Chicago:20220504T090000
DTEND;TZID=America/Chicago:20220504T100000
DTSTAMP:20260425T115408
CREATED:20220124T145156Z
LAST-MODIFIED:20220124T150947Z
UID:3095-1651654800-1651658400@aaceal.com
SUMMARY:AACE Coffee Chats | Spring 2022
DESCRIPTION:Grab your coffee (or hot chocolate) and join us on the first Wednesday of each month at 9:00 AM for a virtual Coffee Chat! No prior registration is required\, just click on the link in the calendar invite.
URL:https://aaceal.com/event/aace-coffee-chats-spring-2022-4/
LOCATION:Virtual Event
CATEGORIES:Coffee Chat
END:VEVENT
BEGIN:VEVENT
DTSTART;TZID=America/Chicago:20220419T100000
DTEND;TZID=America/Chicago:20220419T150000
DTSTAMP:20260425T115408
CREATED:20220208T212731Z
LAST-MODIFIED:20220208T212731Z
UID:3139-1650362400-1650380400@aaceal.com
SUMMARY:AACE Statewide Career Fair
DESCRIPTION:
URL:https://aaceal.com/event/aace-statewide-career-fair/
LOCATION:Virtual Event
END:VEVENT
BEGIN:VEVENT
DTSTART;TZID=America/Chicago:20220406T090000
DTEND;TZID=America/Chicago:20220406T100000
DTSTAMP:20260425T115408
CREATED:20220124T145103Z
LAST-MODIFIED:20220308T224538Z
UID:3093-1649235600-1649239200@aaceal.com
SUMMARY:AACE Coffee Chats | Spring 2022
DESCRIPTION:The Alabama Association of Colleges and Employers’ executive board is excited to invite you to April’s Coffee Chat\, a perk  ☕  (get it? 😊) provided with your AACE membership. This month we want to hear from our employer members on what we\, as college and university career staff\, can do to better serve you and assist in your recruiting efforts of our students. Employers\, if you are new or haven’t joined a Coffee Chat yet\, please do so this month. College members\, please don’t miss this opportunity to hear directly from employers! Moderated by employer board member\, Brittney Scott with Dynetics! Click the zoom link in the calendar invite to join!
URL:https://aaceal.com/event/aace-coffee-chats-spring-2022-3/
LOCATION:Virtual Event
CATEGORIES:Coffee Chat
END:VEVENT
BEGIN:VEVENT
DTSTART;TZID=America/Chicago:20220302T090000
DTEND;TZID=America/Chicago:20220302T100000
DTSTAMP:20260425T115408
CREATED:20220124T145009Z
LAST-MODIFIED:20220124T150901Z
UID:3091-1646211600-1646215200@aaceal.com
SUMMARY:AACE Coffee Chats | Spring 2022
DESCRIPTION:Grab your coffee (or hot chocolate) and join us on the first Wednesday of each month at 9:00 AM for a virtual Coffee Chat! No prior registration is required\, just click on the link in the calendar invite.
URL:https://aaceal.com/event/aace-coffee-chats-spring-2022-2/
LOCATION:Virtual Event
CATEGORIES:Coffee Chat
END:VEVENT
BEGIN:VEVENT
DTSTART;TZID=America/Chicago:20220202T090000
DTEND;TZID=America/Chicago:20220202T100000
DTSTAMP:20260425T115408
CREATED:20220124T144743Z
LAST-MODIFIED:20220124T150847Z
UID:3087-1643792400-1643796000@aaceal.com
SUMMARY:AACE Coffee Chats | Spring 2022
DESCRIPTION:Grab your coffee (or hot chocolate) and join us on the first Wednesday of each month at 9:00 AM for a virtual Coffee Chat! No prior registration is required\, just click on the link in the calendar invite.
URL:https://aaceal.com/event/aace-coffee-chats-spring-2022/
LOCATION:Virtual Event
CATEGORIES:Coffee Chat
END:VEVENT
BEGIN:VEVENT
DTSTART;TZID=America/Chicago:20220119T090000
DTEND;TZID=America/Chicago:20220119T110000
DTSTAMP:20260425T115408
CREATED:20211026T155607Z
LAST-MODIFIED:20220124T150803Z
UID:2928-1642582800-1642590000@aaceal.com
SUMMARY:AACE Winter Workshop
DESCRIPTION:
URL:https://aaceal.com/event/aace-winter-workshop-3/
LOCATION:Virtual Event
CATEGORIES:Workshop
ATTACH;FMTTYPE=image/png:https://aaceal.com/wp-content/uploads/2021/10/winter_workshop.png
END:VEVENT
BEGIN:VEVENT
DTSTART;TZID=America/Chicago:20191015T080000
DTEND;TZID=America/Chicago:20191015T150000
DTSTAMP:20260425T115408
CREATED:20190712T162100Z
LAST-MODIFIED:20190712T162100Z
UID:2497-1571126400-1571151600@aaceal.com
SUMMARY:Education Interview Day
DESCRIPTION:
URL:https://aaceal.com/event/education-interview-day-4/
LOCATION:Beard-Eaves Memorial Coliseum\, Auburn\, AL\, 36832\, United States
END:VEVENT
BEGIN:VEVENT
DTSTART;TZID=America/Chicago:20191009T100000
DTEND;TZID=America/Chicago:20191009T123000
DTSTAMP:20260425T115408
CREATED:20190712T161948Z
LAST-MODIFIED:20190712T161948Z
UID:2495-1570615200-1570624200@aaceal.com
SUMMARY:Grad School Info Day (alabamaconnection.org)
DESCRIPTION:
URL:https://aaceal.com/event/grad-school-info-day-alabamaconnection-org/
LOCATION:Student Center Ballroom- 3rd Floor\, Auburn University\, AL\, 36849\, United States
ORGANIZER;CN="Auburn University Career Center- Melvin K. Smith":MAILTO:MKS@auburn.edu
END:VEVENT
BEGIN:VEVENT
DTSTART;TZID=America/Chicago:20191003T083000
DTEND;TZID=America/Chicago:20191003T163000
DTSTAMP:20260425T115408
CREATED:20190712T161823Z
LAST-MODIFIED:20190712T161823Z
UID:2493-1570091400-1570120200@aaceal.com
SUMMARY:Co-op Interview Day
DESCRIPTION:
URL:https://aaceal.com/event/co-op-interview-day/
LOCATION:Brown – Kopel Engineering Student Achievement Center\, Auburn\, AL
END:VEVENT
BEGIN:VEVENT
DTSTART;TZID=America/Chicago:20190925T080000
DTEND;TZID=America/Chicago:20190925T170000
DTSTAMP:20260425T115408
CREATED:20190415T200355Z
LAST-MODIFIED:20190415T200355Z
UID:2299-1569398400-1569430800@aaceal.com
SUMMARY:General Interest and Business - The University of Alabama
DESCRIPTION:Visit https://career.sa.ua.edu/ for more information
URL:https://aaceal.com/event/general-interest-and-business-the-university-of-alabama/
END:VEVENT
BEGIN:VEVENT
DTSTART;TZID=America/Chicago:20190917T140000
DTEND;TZID=America/Chicago:20190917T180000
DTSTAMP:20260425T115408
CREATED:20190712T161719Z
LAST-MODIFIED:20190712T161719Z
UID:2491-1568728800-1568743200@aaceal.com
SUMMARY:Engineering and Technology Career Fair
DESCRIPTION:Next Day Interviews | Wednesday\, September 18\, 2019 | 9:00 AM – 5:00 PM\nBrown – Kopel Engineering Student Achievement Center – No Charge\n	Contact: Apryl Mullins (334) 844 – 2578 | apryl.mullins@auburn.edu
URL:https://aaceal.com/event/engineering-and-technology-career-fair-2/
LOCATION:Auburn Arena\, 250 Beard-Eaves Court\, Auburn\, AL\, 36849\, United States
CATEGORIES:Career Fair
END:VEVENT
BEGIN:VEVENT
DTSTART;TZID=America/Chicago:20190828T100000
DTEND;TZID=America/Chicago:20190828T130000
DTSTAMP:20260425T115408
CREATED:20190712T161546Z
LAST-MODIFIED:20190712T161546Z
UID:2489-1566986400-1566997200@aaceal.com
SUMMARY:Internship and Part-Time Job Fair
DESCRIPTION:
URL:https://aaceal.com/event/internship-and-part-time-job-fair-2/
LOCATION:Student Center Ballroom- 3rd Floor\, Auburn University\, AL\, 36849\, United States
CATEGORIES:Career Fair
END:VEVENT
BEGIN:VEVENT
DTSTART;TZID=America/Chicago:20190827T110000
DTEND;TZID=America/Chicago:20190827T140000
DTSTAMP:20260425T115408
CREATED:20190712T161431Z
LAST-MODIFIED:20190712T161431Z
UID:2485-1566903600-1566914400@aaceal.com
SUMMARY:Co-op Company Meet and Greet
DESCRIPTION:
URL:https://aaceal.com/event/co-op-company-meet-and-greet/
LOCATION:Brown – Kopel Engineering Student Achievement Center\, Auburn\, AL
CATEGORIES:Networking Event
END:VEVENT
BEGIN:VEVENT
DTSTART;TZID=America/Chicago:20190415T080000
DTEND;TZID=America/Chicago:20190415T170000
DTSTAMP:20260425T115408
CREATED:20190415T200436Z
LAST-MODIFIED:20190415T200436Z
UID:2301-1555315200-1555347600@aaceal.com
SUMMARY:Technical and Engineering - The University of Alabama
DESCRIPTION:Visit https://career.sa.ua.edu/ for more information.
URL:https://aaceal.com/event/technical-and-engineering-the-university-of-alabama/
END:VEVENT
END:VCALENDAR