BEGIN:VCALENDAR
VERSION:2.0
PRODID:-//Alabama Association of Colleges and Employers - ECPv6.15.20//NONSGML v1.0//EN
CALSCALE:GREGORIAN
METHOD:PUBLISH
X-WR-CALNAME:Alabama Association of Colleges and Employers
X-ORIGINAL-URL:https://aaceal.com
X-WR-CALDESC:Events for Alabama Association of Colleges and Employers
REFRESH-INTERVAL;VALUE=DURATION:PT1H
X-Robots-Tag:noindex
X-PUBLISHED-TTL:PT1H
BEGIN:VTIMEZONE
TZID:UTC
BEGIN:STANDARD
TZOFFSETFROM:+0000
TZOFFSETTO:+0000
TZNAME:UTC
DTSTART:20160101T000000
END:STANDARD
END:VTIMEZONE
BEGIN:VEVENT
DTSTART;TZID=UTC:20171025T140000
DTEND;TZID=UTC:20171025T180000
DTSTAMP:20260425T182239
CREATED:20170421T225109Z
LAST-MODIFIED:20170421T225109Z
UID:1067-1508940000-1508954400@aaceal.com
SUMMARY:Auburn University Career Fair - Auburn University
DESCRIPTION:Explore Auburn’s diverse student body and network with students from all disciplines. \nFill your open full-time and internship positions with qualified applicants by attending the All Majors Career Expo. Student attendees will be looking to go into industries including business\, sales\, public relations\, logistics\, consulting\, engineering\, and more. Increase your campus presence\, improve your student visibility\, and network with a variety of Auburn students! \nPLEASE NOTE: There are no available electrical outlets available in the Auburn University Student Center Ballrooms. 
URL:https://aaceal.com/event/auburn-university-career-fair-auburn-university-2/
LOCATION:Student Center Ballroom- 3rd Floor\, Auburn University\, AL\, 36849\, United States
CATEGORIES:Career Fair
ATTACH;FMTTYPE=image/png:https://aaceal.com/wp-content/uploads/2017/04/AUCF.png
ORGANIZER;CN="Auburn University Career Center- Melvin K. Smith":MAILTO:MKS@auburn.edu
END:VEVENT
BEGIN:VEVENT
DTSTART;TZID=UTC:20171018T130000
DTEND;TZID=UTC:20171018T160000
DTSTAMP:20260425T182239
CREATED:20170921T234056Z
LAST-MODIFIED:20170921T234056Z
UID:1230-1508331600-1508342400@aaceal.com
SUMMARY:All Majors Career\, Internship\, & Co-Op Fair - Jacksonville State University
DESCRIPTION:Deadline to register is October 4\, 2017 \n$250.00 for 2 recruiters; $50 for each additional recruiter.   \nLaw enforcement are invited to attend at no cost and non-profit organizations are offered a discounted rate of $100.
URL:https://aaceal.com/event/all-majors-career-internship-co-op-fair-jacksonville-state-university/
LOCATION:Meehan Hall\, 700 Pelham Road North\, Jacksonville\, AL\, 36265\, United States
CATEGORIES:Career Fair
END:VEVENT
BEGIN:VEVENT
DTSTART;TZID=UTC:20171018T100000
DTEND;TZID=UTC:20171018T140000
DTSTAMP:20260425T182239
CREATED:20170707T221448Z
LAST-MODIFIED:20170707T221647Z
UID:1173-1508320800-1508335200@aaceal.com
SUMMARY:All Majors Career Fair - Troy University
DESCRIPTION:Wednesday\, October 18th 10:00 am until 2:00 pm \nHosted by: Troy University Office of Career Services \n$150.00 for employers and includes a table\, breakfast and lunch for 2 company representatives
URL:https://aaceal.com/event/all-majors-career-fair-troy-university/
LOCATION:Sartain Hall\, Troy University\, 600 University Ave\, Troy\, AL\, 36082\, United States
CATEGORIES:Career Fair
ATTACH;FMTTYPE=image/jpeg:https://aaceal.com/wp-content/uploads/2016/06/troy-university-logo.jpg
ORGANIZER;CN="Troy University's Office of Career Services- Lauren Cole":MAILTO:troycareer@troy.edu or lscole@troy.edu
END:VEVENT
BEGIN:VEVENT
DTSTART;TZID=UTC:20171018T080000
DTEND;TZID=UTC:20171018T160000
DTSTAMP:20260425T182239
CREATED:20170721T011406Z
LAST-MODIFIED:20170721T011406Z
UID:1203-1508313600-1508342400@aaceal.com
SUMMARY:Fall 2017 Education Interview Day - University of Alabama
DESCRIPTION:The Fall 2017 Education Interview Day will be held on Wednesday\, October 18\, from 8am – 4pm. \nThe cost is $100 for table space for two recruiters. \nRegistration is open! Register here: https://app.joinhandshake.com/career_fairs/1868/employer_preview
URL:https://aaceal.com/event/fall-2017-education-interview-day-university-of-alabama/
LOCATION:Ferguson Student Center\, 751 Campus Dr\, Tuscaloosa\, AL\, 35401\, United States
CATEGORIES:Career Fair
ATTACH;FMTTYPE=image/png:https://aaceal.com/wp-content/uploads/2017/07/ua-square-logo.png
ORGANIZER;CN="University of Alabama - Angela Kelley":MAILTO:akelley@ua.edu
END:VEVENT
BEGIN:VEVENT
DTSTART;TZID=UTC:20171017T080000
DTEND;TZID=UTC:20171017T150000
DTSTAMP:20260425T182239
CREATED:20170511T205817Z
LAST-MODIFIED:20170511T205817Z
UID:1095-1508227200-1508252400@aaceal.com
SUMMARY:Education Interview Day - Auburn University
DESCRIPTION:A day dedicated to meeting\, networking\, and interviewing the educators of tomorrow. \nCome to Auburn University to recruit education students looking to become future teachers. Education Interview Day allows you to interview several qualified applicants over the course of one day. From 9AM-10AM you will network with the students and schedule interviews. Interviews are then held from 10AM-3PM. Don’t miss this great opportunity connect with Auburn students!
URL:https://aaceal.com/event/education-interview-day-auburn-university-3/
LOCATION:Student Center Ballroom- 3rd Floor\, Auburn University\, AL\, 36849\, United States
CATEGORIES:Career Fair
ATTACH;FMTTYPE=image/png:https://aaceal.com/wp-content/uploads/2017/04/EID_HandshakeBanner-01.png
ORGANIZER;CN="Auburn University Career Center- Melvin K. Smith":MAILTO:MKS@auburn.edu
END:VEVENT
BEGIN:VEVENT
DTSTART;TZID=UTC:20171010T140000
DTEND;TZID=UTC:20171010T170000
DTSTAMP:20260425T182239
CREATED:20170421T224639Z
LAST-MODIFIED:20170421T224639Z
UID:1062-1507644000-1507654800@aaceal.com
SUMMARY:Supply Chain Management Career Fair - Auburn University
DESCRIPTION:The Supply Chain Management Career Fair provides opportunities for students to interact with a variety of companies and organizations offering internships and full-time employment opportunities in fields related to Supply Chain Management. \nThis event is exclusively available to students with a major or minor in Supply Chain Management. Pre-Business students who intend to major in Supply Chain Management are welcome to attend as well as MBA students with a concentration in Supply Chain Management. \nPlease note: The Supply Chain Management Career Fair will be held from 2PM – 5PM Central Standard Time.
URL:https://aaceal.com/event/supply-chain-management-career-fair-auburn-university-2/
LOCATION:Student Center Ballroom- 3rd Floor\, Auburn University\, AL\, 36849\, United States
CATEGORIES:Career Fair
ATTACH;FMTTYPE=image/png:https://aaceal.com/wp-content/uploads/2017/04/H-AU-158-289-OfficeOfProfessionalAndCareerDevelopment.png
ORGANIZER;CN="Auburn University Harbert College of Business%3A Alex Ritenbaugh":MAILTO:alex.ritenbaugh@auburn.edu
END:VEVENT
BEGIN:VEVENT
DTSTART;TZID=UTC:20171005T143000
DTEND;TZID=UTC:20171005T170000
DTSTAMP:20260425T182239
CREATED:20170421T224455Z
LAST-MODIFIED:20170421T224455Z
UID:1059-1507213800-1507222800@aaceal.com
SUMMARY:College of Agriculture Career Fair - Auburn University
DESCRIPTION:The College of Agriculture invites your company to our  fall career fair  on October 5\, 2017 from 2:30 p.m. to 5:00  p.m.  at the Auburn University Alumni Center on the campus of Auburn University. The fair is a great opportunity for your company to meet with students of diverse backgrounds\, including\, Agricultural Economics and Rural Sociology \, Agricultural Communications\, Agronomy and Soils\, Animal Sciences\, Biosystems Engineering\, Environmental Science\, Fisheries and Allied Aquacultures\, Food Science\, Horticulture and Poultry Science.
URL:https://aaceal.com/event/college-of-agriculture-career-fair-auburn-university-2/
LOCATION:Auburn University Alumni Center\, 317 South College St\, Auburn\, AL\, 36849\, United States
CATEGORIES:Career Fair
ATTACH;FMTTYPE=image/png:https://aaceal.com/wp-content/uploads/2017/04/ag-career-fair-general.png
ORGANIZER;CN="Auburn University College of Agriculture- Megan Ross":MAILTO:mhr0001@auburn.edu
END:VEVENT
BEGIN:VEVENT
DTSTART;TZID=UTC:20171004T150000
DTEND;TZID=UTC:20171004T190000
DTSTAMP:20260425T182239
CREATED:20170421T224202Z
LAST-MODIFIED:20170421T224202Z
UID:1057-1507129200-1507143600@aaceal.com
SUMMARY:Building Science Career Expo - Auburn University
DESCRIPTION:
URL:https://aaceal.com/event/building-science-career-expo-auburn-university-2/
LOCATION:AL
CATEGORIES:Career Fair
ORGANIZER;CN="Auburn University McWhorter School of Building Science- Cassandra Calloway":MAILTO:callocd@auburn.edu
END:VEVENT
BEGIN:VEVENT
DTSTART;TZID=UTC:20171004T100000
DTEND;TZID=UTC:20171004T123000
DTSTAMP:20260425T182239
CREATED:20170421T223533Z
LAST-MODIFIED:20170421T223939Z
UID:1054-1507111200-1507120200@aaceal.com
SUMMARY:Graduate School Info Day - Auburn University
DESCRIPTION:Graduate &\nProfessional School Expo\n\nOctober 2-5\n\nMon  Oct  2   Huntsville \nTue   Oct  3   Tuscaloosa \nTue   Oct  3   Birmingham \nWed  Oct  4   Auburn \nWed  Oct  4   Montgomery \nThu   Oct  5   Mobile
URL:https://aaceal.com/event/graduate-school-info-day-auburn-university/
LOCATION:Student Center Ballroom- 3rd Floor\, Auburn University\, AL\, 36849\, United States
CATEGORIES:Graduate School Information
ATTACH;FMTTYPE=image/png:https://aaceal.com/wp-content/uploads/2017/04/GSID_TVF16.png
END:VEVENT
BEGIN:VEVENT
DTSTART;TZID=UTC:20170928T100000
DTEND;TZID=UTC:20170928T150000
DTSTAMP:20260425T182239
CREATED:20170721T011116Z
LAST-MODIFIED:20170724T202749Z
UID:1199-1506592800-1506610800@aaceal.com
SUMMARY:Technical and Engineering Career Fair - University of Alabama
DESCRIPTION:The Fall 2017 General Interest and Business Career Fair will be held Thursday\, Sept. 28\, 2017\, from 10 a.m.-3 p.m. at Coleman Coliseum. \nThe $650 for four recruiters\, and registration is open! \nRegister here: https://app.joinhandshake.com/career_fairs/1868/employer_preview
URL:https://aaceal.com/event/technical-and-engineering-career-fair-university-of-alabama/
LOCATION:Coleman Coliseum\, 323 Paul W Bryant Dr \, Tuscaloosa\, AL\, 35401\, United States
CATEGORIES:Career Fair
ATTACH;FMTTYPE=image/png:https://aaceal.com/wp-content/uploads/2017/07/UA2017Fall_CF_designs-02.png
ORGANIZER;CN="University of Alabama - Angela Kelley":MAILTO:akelley@ua.edu
END:VEVENT
BEGIN:VEVENT
DTSTART;TZID=UTC:20170928T090000
DTEND;TZID=UTC:20170928T130000
DTSTAMP:20260425T182239
CREATED:20170421T223233Z
LAST-MODIFIED:20170421T224008Z
UID:1051-1506589200-1506603600@aaceal.com
SUMMARY:Harbert College of Business Career Fair - Auburn University
DESCRIPTION:The Fall 2017 Harbert College of Business Career Fair provides opportunities for employers to interact students from undergraduate and graduate business programs. The Harbert College of Business has more than 5\,000 undergraduate and graduate students. \nFor more information on the Harbert College of Business programs\, please visit http://harbert.auburn.edu/about/fast-facts.php. \nIn addition to business majors\, students from other disciplines across campus are invited and encouraged to attend. \nPlease note: The Harbert College of Business Career Fair will be held from 10AM – 1PM Central Standard Time.
URL:https://aaceal.com/event/harbert-college-of-business-career-fair-auburn-university-3/
LOCATION:Auburn Arena\, 250 Beard-Eaves Court\, Auburn\, AL\, 36849\, United States
CATEGORIES:Career Fair
ATTACH;FMTTYPE=image/png:https://aaceal.com/wp-content/uploads/2017/04/H-AU-158-289-OfficeOfProfessionalAndCareerDevelopment.png
ORGANIZER;CN="Auburn University Harbert College of Business%3A Alex Ritenbaugh":MAILTO:alex.ritenbaugh@auburn.edu
END:VEVENT
BEGIN:VEVENT
DTSTART;TZID=UTC:20170927T100000
DTEND;TZID=UTC:20170927T150000
DTSTAMP:20260425T182239
CREATED:20170721T010840Z
LAST-MODIFIED:20170724T202708Z
UID:1195-1506506400-1506524400@aaceal.com
SUMMARY:General Interest and Business Career Fair - University of Alabama
DESCRIPTION:The Fall 2017 General Interest and Business Career Fair will be held Wednesday\, Sept. 27\, 2017\, from 10 a.m.-3 p.m. at Coleman Coliseum. \nThe $650 for four recruiters\, and registration is open! \nRegister here: https://app.joinhandshake.com/career_fairs/1868/employer_preview
URL:https://aaceal.com/event/general-interest-and-business-career-fair-university-of-alabama/
LOCATION:Coleman Coliseum\, 323 Paul W Bryant Dr \, Tuscaloosa\, AL\, 35401\, United States
CATEGORIES:Career Fair
ATTACH;FMTTYPE=image/png:https://aaceal.com/wp-content/uploads/2017/07/UA2017Fall_CF_designs-02.png
ORGANIZER;CN="University of Alabama - Angela Kelley":MAILTO:akelley@ua.edu
END:VEVENT
BEGIN:VEVENT
DTSTART;TZID=UTC:20170919T150000
DTEND;TZID=UTC:20170919T190000
DTSTAMP:20260425T182239
CREATED:20170421T210044Z
LAST-MODIFIED:20170421T210044Z
UID:1048-1505833200-1505847600@aaceal.com
SUMMARY:STEM Career Expo - Auburn University
DESCRIPTION:Connect with students enrolled in one of the top engineering programs in the country by attending the STEM Career Expo. Student attendees will be looking to go into science\, technology\, engineering\, and mathematics fields. Additionally\, make the most of your time at Auburn by signing up to conduct next day interviews. Space fills up quickly\, so be sure to register now! \n  \nVisit for full list of events: http://auburn.edu/career/employers/events/
URL:https://aaceal.com/event/stem-career-expo-auburn-university-3/
LOCATION:Beard-Eaves Memorial Coliseum\, Auburn\, AL\, 36832\, United States
CATEGORIES:Career Fair
ATTACH;FMTTYPE=image/png:https://aaceal.com/wp-content/uploads/2017/04/STEM_Handshake_F16-01.png
ORGANIZER;CN="Auburn University Career Center- Melvin K. Smith":MAILTO:MKS@auburn.edu
END:VEVENT
BEGIN:VEVENT
DTSTART;TZID=UTC:20170906T080000
DTEND;TZID=UTC:20170906T170000
DTSTAMP:20260425T182239
CREATED:20170511T211428Z
LAST-MODIFIED:20170511T211428Z
UID:1106-1504684800-1504717200@aaceal.com
SUMMARY:Fall Career Fair - University of Alabama-Huntsville
DESCRIPTION:University wide Career Fair\, Early bird registration is June 1-July 31; standard registration is August 1-31.
URL:https://aaceal.com/event/fall-career-fair-university-of-alabama-huntsville/
LOCATION:University Fitness Center- UAH\, 500 John Wright Dr NW\, Huntsville\, AL\, 35805\, United States
CATEGORIES:Career Fair
ORGANIZER;CN="UAH Career Services%3A Candace Phillips":MAILTO:candace.phillips@uah.edu
END:VEVENT
BEGIN:VEVENT
DTSTART;TZID=UTC:20170830T100000
DTEND;TZID=UTC:20170830T130000
DTSTAMP:20260425T182239
CREATED:20170421T205820Z
LAST-MODIFIED:20170421T205820Z
UID:1044-1504087200-1504098000@aaceal.com
SUMMARY:Internship & Part-Time Job Fair - Auburn University
DESCRIPTION:Attract qualified Auburn students to fill your open internship and part-time positions while increasing your exposure on campus. This fair is a great opportunity for you to network with Auburn students in a relaxed environment. This event is free for all employers\, so don’t miss out! \n  \nVisit for full list of events: http://auburn.edu/career/employers/events/
URL:https://aaceal.com/event/internship-part-time-job-fair-auburn-university/
LOCATION:Student Center Ballroom- 3rd Floor\, Auburn University\, AL\, 36849\, United States
CATEGORIES:Career Fair
ATTACH;FMTTYPE=image/jpeg:https://aaceal.com/wp-content/uploads/2017/04/iptjffall17.jpg
ORGANIZER;CN="Auburn University Career Center- Melvin K. Smith":MAILTO:MKS@auburn.edu
END:VEVENT
BEGIN:VEVENT
DTSTART;TZID=UTC:20170817T080000
DTEND;TZID=UTC:20170817T170000
DTSTAMP:20260425T182239
CREATED:20170511T211155Z
LAST-MODIFIED:20170511T211155Z
UID:1102-1502956800-1502989200@aaceal.com
SUMMARY:Part-Time Job Fair - University of Alabama-Huntsville
DESCRIPTION:Week of Welcome event for students seeking part-time employment while they pursue their degree. \nEarly bird registration is June 1-July 15; Standard registration is July 16-August 5
URL:https://aaceal.com/event/part-time-job-fair-university-of-alabama-huntsville/
LOCATION:Charger Union – UAH\, 300 Sparkman Drive\, Huntsville\, AL\, 35899\, United States
CATEGORIES:Career Fair
ORGANIZER;CN="UAH Career Services%3A Sumer Swaim":MAILTO:Sumer.Swaim@uah.edu
END:VEVENT
BEGIN:VEVENT
DTSTART;TZID=UTC:20170815T110000
DTEND;TZID=UTC:20170815T130000
DTSTAMP:20260425T182239
CREATED:20170511T210802Z
LAST-MODIFIED:20170511T210802Z
UID:1097-1502794800-1502802000@aaceal.com
SUMMARY:Co-op Kickoff - University of Alabama- Huntsville
DESCRIPTION:An informal event designed to engage students interested in experiential learning with employers that want to highlight their programs. \n  \nSponsorships range between $250-$500
URL:https://aaceal.com/event/co-op-kickoff-university-of-alabama-huntsville/
LOCATION:Charger Union Lawn- UAH\, 300 Sparkman Dr\, Huntsville\, AL\, 35899\, United States
ORGANIZER;CN="UAH Career Services%3A Candace Phillips":MAILTO:candace.phillips@uah.edu
END:VEVENT
BEGIN:VEVENT
DTSTART;TZID=UTC:20170719T080000
DTEND;TZID=UTC:20170721T170000
DTSTAMP:20260425T182239
CREATED:20170227T002623Z
LAST-MODIFIED:20170421T225958Z
UID:965-1500451200-1500656400@aaceal.com
SUMMARY:2017 AACE Summer Conference
DESCRIPTION:Welcome to the 2017 AACE Summer Conference Page. This webpage will provide you with all necessary information and updates related to the summer conference. We appreciate your interest in attending\, and we look forward to seeing you there. Please be sure that you have reviewed all of the associated tabs and links under the “Annual Conference” section of the website. For additional information or questions\, please do not hesitate to contact us at office@aaceal.com. \nDate: Wednesday\, July 19 – Friday\, July 21\, 2017\nLocation: Orange Beach\, Alabama \n  \nAACE Member Early Registration Rate (before June 16\, 2017) – $175\nAACE Member Registration Rate (after June 16\, 2017) – $195\nStudent Registration Fee $100\nNon-Members Registration Rate – $225\nSpouse/Guest Meals Fee (lunches and reception) – $75
URL:https://aaceal.com/event/2017-aacemace-summer-conference/
LOCATION:Springhill Suites\, 4673 Wharf Parkway West\, Orange Beach\, AL\, 36561\, United States
CATEGORIES:Conference
END:VEVENT
BEGIN:VEVENT
DTSTART;TZID=UTC:20170509T083000
DTEND;TZID=UTC:20170509T163000
DTSTAMP:20260425T182239
CREATED:20170424T234352Z
LAST-MODIFIED:20170424T234750Z
UID:1077-1494318600-1494347400@aaceal.com
SUMMARY:Career Development Facilitator Training - Auburn University
DESCRIPTION:The Auburn University Career Center will be hosting the Career Development Facilitator Training this summer and you are invited! This 2 day in-person training is combined with a total of 8 weeks of online coursework to provide an in-depth program covering all areas of career development. Created by the National Career Development Association (NCDA)\, the Career Development Facilitator Training (CDF) was designed to “provide individuals with relevant skills and knowledge to assist others in planning careers and obtaining meaningful work.”\nSee syllabus for full outline of training. The sessions and online coursework will be led by Mary Ila Ward and Taylor Simmons of Horizon Point Consulting. Successful completion of this program will fulfill the training requirement of the Global Career Development Facilitator (GCDF) credential.\nThe cost of this training is $875 includes 2 in person sessions\, online training\, course materials\, lunch for both session dates\, and additional online resources. The sessions will be hosted on the Auburn University campus and room location will be announced when we have a final count of attendees.\nIf you are traveling to attend\, use these resources to plan your trip.\n\nDeadline to register is May 1 so sign up today!\n \n  \n 
URL:https://aaceal.com/event/career-development-facilitator-training-auburn-university/
LOCATION:Auburn University Alumni Center\, 317 South College St\, Auburn\, AL\, 36849\, United States
CATEGORIES:Workshop
ATTACH;FMTTYPE=image/png:https://aaceal.com/wp-content/uploads/2017/04/CDF2.png
ORGANIZER;CN="Auburn University Career Center- Addye Buckley-Burnell":MAILTO:addyebb@auburn.edu
END:VEVENT
BEGIN:VEVENT
DTSTART;TZID=UTC:20170426T090000
DTEND;TZID=UTC:20170426T130000
DTSTAMP:20260425T182239
CREATED:20160920T015458Z
LAST-MODIFIED:20161115T234225Z
UID:669-1493197200-1493211600@aaceal.com
SUMMARY:Spring Career Fair - Jacksonville State University
DESCRIPTION:Register online at http://www.jsu.edu/careerservices/events/index.html
URL:https://aaceal.com/event/spring-career-fair-jacksonville-state-university/
LOCATION:TBA\, Birmingham\, AL\, United States
CATEGORIES:Career Fair
END:VEVENT
BEGIN:VEVENT
DTSTART;TZID=UTC:20170421T080000
DTEND;TZID=UTC:20170421T170000
DTSTAMP:20260425T182239
CREATED:20170421T224834Z
LAST-MODIFIED:20170421T224834Z
UID:1064-1492761600-1492794000@aaceal.com
SUMMARY:Education Interview Day - Auburn University
DESCRIPTION:Come to Auburn University to recruit education students looking to become future teachers. Education Interview Day allows you to interview several qualified applicants over the course of one day. From 9AM-10AM you will network with the students and schedule interviews. Interviews are then held from 10AM-3PM. Don’t miss this great opportunity connect with Auburn students!
URL:https://aaceal.com/event/education-interview-day-auburn-university-2/
LOCATION:Student Center Ballroom- 3rd Floor\, Auburn University\, AL\, 36849\, United States
CATEGORIES:Career Fair
ATTACH;FMTTYPE=image/png:https://aaceal.com/wp-content/uploads/2017/04/EID_HandshakeBanner-01.png
ORGANIZER;CN="Auburn University Career Center- Melvin K. Smith":MAILTO:MKS@auburn.edu
END:VEVENT
BEGIN:VEVENT
DTSTART;TZID=UTC:20170413T080000
DTEND;TZID=UTC:20170413T080000
DTSTAMP:20260425T182239
CREATED:20160920T015251Z
LAST-MODIFIED:20161115T234241Z
UID:667-1492070400-1492070400@aaceal.com
SUMMARY:Education Fair\, a Reverse Career Fair - Jacksonville State University
DESCRIPTION:
URL:https://aaceal.com/event/education-fair-a-reverse-career-fair-jacksonville-state-university/
LOCATION:TBA\, Birmingham\, AL\, United States
CATEGORIES:Career Fair
END:VEVENT
BEGIN:VEVENT
DTSTART;TZID=UTC:20170412T090000
DTEND;TZID=UTC:20170412T120000
DTSTAMP:20260425T182239
CREATED:20160921T013052Z
LAST-MODIFIED:20161115T233939Z
UID:693-1491987600-1491998400@aaceal.com
SUMMARY:Spring Technical Employment Fair - Gadsden State Community College
DESCRIPTION:
URL:https://aaceal.com/event/spring-technical-employment-fair-gadsden-state-community-college/
LOCATION:East Broad Campus in Gadsden\, 1001 East Broad St.\, Gadsden\, AL\, 35903\, United States
CATEGORIES:Career Fair
END:VEVENT
BEGIN:VEVENT
DTSTART;TZID=UTC:20170406T090000
DTEND;TZID=UTC:20170406T113000
DTSTAMP:20260425T182239
CREATED:20161118T042039Z
LAST-MODIFIED:20161118T042039Z
UID:821-1491469200-1491478200@aaceal.com
SUMMARY:2017 Spring Career Fair- Athens State University
DESCRIPTION:Recruit students and graduates of our College of Arts & Sciences\, College of Business and College of Education
URL:https://aaceal.com/event/2017-spring-career-fair-athens-state-university/
LOCATION:Carter Gymnasium\, 300 North Beaty St\, Athens\, AL\, 35611\, United States
CATEGORIES:Career Fair
ORGANIZER;CN="Athens State University- Laura Allen":MAILTO:laura.allen@athens.edu
END:VEVENT
BEGIN:VEVENT
DTSTART;TZID=UTC:20170406T080000
DTEND;TZID=UTC:20170406T170000
DTSTAMP:20260425T182239
CREATED:20160416T024704Z
LAST-MODIFIED:20160419T021159Z
UID:427-1491465600-1491498000@aaceal.com
SUMMARY:Education Interview Day- University of West Alabama
DESCRIPTION:Event is for teaching majors/librarian students who will complete the internship in May 2017 or December 2017 and for school systems
URL:https://aaceal.com/event/education-interview-day-university-of-west-alabama/
LOCATION:Bell Conference Center\,  Foust Dr\, Livingston\, AL\, 35470\, United States
CATEGORIES:Career Fair
END:VEVENT
BEGIN:VEVENT
DTSTART;TZID=UTC:20170309T153000
DTEND;TZID=UTC:20170309T170000
DTSTAMP:20260425T182240
CREATED:20161119T041429Z
LAST-MODIFIED:20161119T041435Z
UID:827-1489073400-1489078800@aaceal.com
SUMMARY:College of Agriculture Spring Career Fair- Auburn University
DESCRIPTION:
URL:https://aaceal.com/event/college-of-agriculture-spring-career-fair-auburn-university/
LOCATION:Auburn University Alumni Center\, 317 South College St\, Auburn\, AL\, 36849\, United States
CATEGORIES:Career Fair
ATTACH;FMTTYPE=image/png:https://aaceal.com/wp-content/uploads/2016/11/Spring-2017-Career-Fair-Logo.fw_.png
ORGANIZER;CN="Auburn University College of Agriculture- Megan Ross":MAILTO:mhr0001@auburn.edu
END:VEVENT
BEGIN:VEVENT
DTSTART;TZID=UTC:20170308T080000
DTEND;TZID=UTC:20170308T150000
DTSTAMP:20260425T182240
CREATED:20161118T035456Z
LAST-MODIFIED:20161118T040205Z
UID:804-1488960000-1488985200@aaceal.com
SUMMARY:Education Interview Day- The University of Alabama
DESCRIPTION:Undergraduate and graduate students from the College of Education who are seeking full time teaching positions will attend this event.  Registration is available through your CrimsonCareers account. If you do not have an account\, you may create one by going to https://ua-csm.symplicity.com/employers. \n$100.00 for two recruiters
URL:https://aaceal.com/event/education-interview-day-the-university-of-alabama/
LOCATION:Ferguson Student Center\, 751 Campus Dr\, Tuscaloosa\, AL\, 35401\, United States
CATEGORIES:Career Fair
ATTACH;FMTTYPE=image/png:https://aaceal.com/wp-content/uploads/2016/11/UA-EID.png
ORGANIZER;CN="The University of Alabama- Angela Kelley":MAILTO:akelley@sa.ua.edu
END:VEVENT
BEGIN:VEVENT
DTSTART;TZID=UTC:20170307T080000
DTEND;TZID=UTC:20170307T150000
DTSTAMP:20260425T182240
CREATED:20161115T235224Z
LAST-MODIFIED:20170119T213828Z
UID:785-1488873600-1488898800@aaceal.com
SUMMARY:Education Interview Day- Auburn University
DESCRIPTION:
URL:https://aaceal.com/event/education-interview-day-auburn-university/
LOCATION:Beard-Eaves Memorial Coliseum\, Auburn\, AL\, 36832\, United States
CATEGORIES:Career Fair
ATTACH;FMTTYPE=image/png:https://aaceal.com/wp-content/uploads/2016/11/EID_HomepageS17-01.png
ORGANIZER;CN="Auburn University Career Center- Melvin K. Smith":MAILTO:MKS@auburn.edu
END:VEVENT
BEGIN:VEVENT
DTSTART;TZID=UTC:20170302T100000
DTEND;TZID=UTC:20170302T123000
DTSTAMP:20260425T182240
CREATED:20161202T223103Z
LAST-MODIFIED:20161202T223103Z
UID:860-1488448800-1488457800@aaceal.com
SUMMARY:Job & Internship Fair- Samford University
DESCRIPTION:Take advantage of this opportunity to join us at Samford and recruit our dedicated students and alumni or share information about future opportunities. The earlier time will ensure that more students are on campus to take advantage of this wonderful opportunity. We look forward to seeing you!\nCost: $175 (for-profit)\, $50 (non-profit & government)
URL:https://aaceal.com/event/job-internship-fair-samford-university/
LOCATION:Samford University Building TBD\, 800 Lakeshore Drive\, Birmingham\, AL\, 35229\, United States
CATEGORIES:Career Fair
ORGANIZER;CN="Samford University Career Development Center- Heather Averett":MAILTO:heaveret@samford.edu
END:VEVENT
BEGIN:VEVENT
DTSTART;TZID=UTC:20170228T140000
DTEND;TZID=UTC:20170228T180000
DTSTAMP:20260425T182240
CREATED:20161115T235117Z
LAST-MODIFIED:20170119T213752Z
UID:783-1488290400-1488304800@aaceal.com
SUMMARY:Auburn University Career Fair- Auburn University
DESCRIPTION:All Majors welcome
URL:https://aaceal.com/event/auburn-university-career-fair-auburn-university/
LOCATION:Student Center Ballroom- 3rd Floor\, Auburn University\, AL\, 36849\, United States
CATEGORIES:Career Fair
ATTACH;FMTTYPE=image/png:https://aaceal.com/wp-content/uploads/2016/11/AUCF_HomepageS17.png
ORGANIZER;CN="Auburn University Career Center- Melvin K. Smith":MAILTO:MKS@auburn.edu
END:VEVENT
END:VCALENDAR