BEGIN:VCALENDAR
VERSION:2.0
PRODID:-//Alabama Association of Colleges and Employers - ECPv6.15.20//NONSGML v1.0//EN
CALSCALE:GREGORIAN
METHOD:PUBLISH
X-WR-CALNAME:Alabama Association of Colleges and Employers
X-ORIGINAL-URL:https://aaceal.com
X-WR-CALDESC:Events for Alabama Association of Colleges and Employers
REFRESH-INTERVAL;VALUE=DURATION:PT1H
X-Robots-Tag:noindex
X-PUBLISHED-TTL:PT1H
BEGIN:VTIMEZONE
TZID:America/Chicago
BEGIN:DAYLIGHT
TZOFFSETFROM:-0600
TZOFFSETTO:-0500
TZNAME:CDT
DTSTART:20230312T080000
END:DAYLIGHT
BEGIN:STANDARD
TZOFFSETFROM:-0500
TZOFFSETTO:-0600
TZNAME:CST
DTSTART:20231105T070000
END:STANDARD
BEGIN:DAYLIGHT
TZOFFSETFROM:-0600
TZOFFSETTO:-0500
TZNAME:CDT
DTSTART:20240310T080000
END:DAYLIGHT
BEGIN:STANDARD
TZOFFSETFROM:-0500
TZOFFSETTO:-0600
TZNAME:CST
DTSTART:20241103T070000
END:STANDARD
BEGIN:DAYLIGHT
TZOFFSETFROM:-0600
TZOFFSETTO:-0500
TZNAME:CDT
DTSTART:20250309T080000
END:DAYLIGHT
BEGIN:STANDARD
TZOFFSETFROM:-0500
TZOFFSETTO:-0600
TZNAME:CST
DTSTART:20251102T070000
END:STANDARD
BEGIN:DAYLIGHT
TZOFFSETFROM:-0600
TZOFFSETTO:-0500
TZNAME:CDT
DTSTART:20260308T080000
END:DAYLIGHT
BEGIN:STANDARD
TZOFFSETFROM:-0500
TZOFFSETTO:-0600
TZNAME:CST
DTSTART:20261101T070000
END:STANDARD
END:VTIMEZONE
BEGIN:VEVENT
DTSTART;TZID=America/Chicago:20250212T120000
DTEND;TZID=America/Chicago:20250212T140000
DTSTAMP:20260425T071225
CREATED:20241125T162850Z
LAST-MODIFIED:20241125T162850Z
UID:5117-1739361600-1739368800@aaceal.com
SUMMARY:CIS Symposium
DESCRIPTION:You need to be logged in to view this content. Please Log In. Not a Member? Join Us
URL:https://aaceal.com/event/cis-symposium-2/
LOCATION:Calhoun Community College- Huntsville Campus\, MSC Building\, Huntsville\, AL\, 35805\, United States
ORGANIZER;CN="Kelli Morris":MAILTO:kelli.morris@calhoun.edu
END:VEVENT
BEGIN:VEVENT
DTSTART;TZID=America/Chicago:20250205T090000
DTEND;TZID=America/Chicago:20250205T100000
DTSTAMP:20260425T071225
CREATED:20250114T224105Z
LAST-MODIFIED:20250114T224757Z
UID:5196-1738746000-1738749600@aaceal.com
SUMMARY:AACE Coffee Chat: How Are You Connecting?  A Partnership Chat with MACE
DESCRIPTION:You need to be logged in to view this content. Please Log In. Not a Member? Join Us
URL:https://aaceal.com/event/february-2025-coffee-chat/
LOCATION:Virtual Event
CATEGORIES:Coffee Chat
END:VEVENT
BEGIN:VEVENT
DTSTART;TZID=America/Chicago:20250203T130000
DTEND;TZID=America/Chicago:20250203T160000
DTSTAMP:20260425T071225
CREATED:20241120T164318Z
LAST-MODIFIED:20241120T164318Z
UID:5107-1738587600-1738598400@aaceal.com
SUMMARY:Computer Science & Technology Career Fair
DESCRIPTION:You need to be logged in to view this content. Please Log In. Not a Member? Join Us
URL:https://aaceal.com/event/computer-science-technology-career-fair/
LOCATION:Lamar Higgins Ballrooms\, Trojan Center\, Troy Campus\, Trojan Center\, Troy\, AL\, 36082\, United States
CATEGORIES:Career Fair
ORGANIZER;CN="Troy University's Office of Career Services- Lauren Cole":MAILTO:troycareer@troy.edu or lscole@troy.edu
END:VEVENT
BEGIN:VEVENT
DTSTART;TZID=America/Chicago:20241211T090000
DTEND;TZID=America/Chicago:20241211T100000
DTSTAMP:20260425T071225
CREATED:20241120T162423Z
LAST-MODIFIED:20241120T162423Z
UID:5099-1733907600-1733911200@aaceal.com
SUMMARY:AACE Coffee Chat- AI on Campus to Career
DESCRIPTION:You need to be logged in to view this content. Please Log In. Not a Member? Join Us
URL:https://aaceal.com/event/aace-coffee-chat-ai-on-campus-to-career/
LOCATION:Virtual Event
CATEGORIES:Coffee Chat
END:VEVENT
BEGIN:VEVENT
DTSTART;TZID=America/Chicago:20241113T090000
DTEND;TZID=America/Chicago:20241113T100000
DTSTAMP:20260425T071225
CREATED:20241030T144735Z
LAST-MODIFIED:20241106T173552Z
UID:5085-1731488400-1731492000@aaceal.com
SUMMARY:AACE Coffee Chat- Info Session
DESCRIPTION:You need to be logged in to view this content. Please Log In. Not a Member? Join Us
URL:https://aaceal.com/event/aace-coffee-chat-info-session/
LOCATION:Virtual Event
CATEGORIES:Coffee Chat
END:VEVENT
BEGIN:VEVENT
DTSTART;VALUE=DATE:20241113
DTEND;VALUE=DATE:20241114
DTSTAMP:20260425T071225
CREATED:20241106T174217Z
LAST-MODIFIED:20241106T174217Z
UID:5093-1731456000-1731542399@aaceal.com
SUMMARY:AACE Day!
DESCRIPTION:You need to be logged in to view this content. Please Log In. Not a Member? Join Us
URL:https://aaceal.com/event/aace-day/
LOCATION:Virtual Event
CATEGORIES:Networking Event
END:VEVENT
BEGIN:VEVENT
DTSTART;TZID=America/Chicago:20241106T090000
DTEND;TZID=America/Chicago:20241106T100000
DTSTAMP:20260425T071225
CREATED:20241030T143509Z
LAST-MODIFIED:20241030T144802Z
UID:5083-1730883600-1730887200@aaceal.com
SUMMARY:AACE Coffee Chat- Workforce Development
DESCRIPTION:You need to be logged in to view this content. Please Log In. Not a Member? Join Us
URL:https://aaceal.com/event/aace-coffee-chat-workforce-development/
LOCATION:Virtual Event
CATEGORIES:Coffee Chat
END:VEVENT
BEGIN:VEVENT
DTSTART;TZID=America/Chicago:20241021T140000
DTEND;TZID=America/Chicago:20241021T160000
DTSTAMP:20260425T071225
CREATED:20240813T131633Z
LAST-MODIFIED:20240813T131633Z
UID:5007-1729519200-1729526400@aaceal.com
SUMMARY:Nursing Fair
DESCRIPTION:You need to be logged in to view this content. Please Log In. Not a Member? Join Us
URL:https://aaceal.com/event/nursing-fair/
LOCATION:Calhoun Community College- Decatur Campus\, Advanced Technology Center\, Calhoun Community College\, Decatur\, AL\, United States
CATEGORIES:Career Fair
ORGANIZER;CN="Calhoun Community College- Rachel Reid":MAILTO:rachel.reid@calhoun.edu
END:VEVENT
BEGIN:VEVENT
DTSTART;TZID=America/Chicago:20241017T110000
DTEND;TZID=America/Chicago:20241017T150000
DTSTAMP:20260425T071225
CREATED:20240805T163912Z
LAST-MODIFIED:20240813T131646Z
UID:4931-1729162800-1729177200@aaceal.com
SUMMARY:HireAJag Career Fair
DESCRIPTION:You need to be logged in to view this content. Please Log In. Not a Member? Join Us
URL:https://aaceal.com/event/hireajag-career-fair/
LOCATION:Mitchell Center\, University of South Alabama\, Mitchell Center\, 5950 Old Shell Rd\, Mobile\, AL\, AL\, 36608\, United States
CATEGORIES:Career Fair
ORGANIZER;CN="University of South Alabama%3A Hannah Oswalt":MAILTO:hoswalt@southalabama.edu
END:VEVENT
BEGIN:VEVENT
DTSTART;TZID=America/Chicago:20241009T090000
DTEND;TZID=America/Chicago:20241009T160000
DTSTAMP:20260425T071225
CREATED:20240520T142219Z
LAST-MODIFIED:20240813T131657Z
UID:4705-1728464400-1728489600@aaceal.com
SUMMARY:UAB Engineering Fall 2024 Career Fair
DESCRIPTION:You need to be logged in to view this content. Please Log In. Not a Member? Join Us
URL:https://aaceal.com/event/uab-engineering-fall-2024-career-fair/
LOCATION:UAB Hill Student Center Ballroom\, 1400 University Blvd\, Birmingham\, AL\, 35294\, United States
CATEGORIES:Career Fair
END:VEVENT
BEGIN:VEVENT
DTSTART;TZID=America/Chicago:20241009T090000
DTEND;TZID=America/Chicago:20241009T100000
DTSTAMP:20260425T071225
CREATED:20240924T141054Z
LAST-MODIFIED:20240924T141054Z
UID:5022-1728464400-1728468000@aaceal.com
SUMMARY:Coffee Chat- Meet the Board\, Meet the Membership
DESCRIPTION:You need to be logged in to view this content. Please Log In. Not a Member? Join Us
URL:https://aaceal.com/event/coffee-chat-meet-the-board-meet-the-membership/
LOCATION:Virtual Event
CATEGORIES:Coffee Chat
END:VEVENT
BEGIN:VEVENT
DTSTART;TZID=America/Chicago:20241001T110000
DTEND;TZID=America/Chicago:20241001T140000
DTSTAMP:20260425T071225
CREATED:20240621T191429Z
LAST-MODIFIED:20240813T131708Z
UID:4771-1727780400-1727791200@aaceal.com
SUMMARY:All Majors Career Fair
DESCRIPTION:You need to be logged in to view this content. Please Log In. Not a Member? Join Us
URL:https://aaceal.com/event/all-majors-career-fair/
LOCATION:Trojan Arena\, Troy University\, Troy\, AL\, Trojan Arena\, Troy\, AL\, 36082\, United States
CATEGORIES:Career Fair
ORGANIZER;CN="Troy University's Office of Career Services- Lauren Cole":MAILTO:troycareer@troy.edu or lscole@troy.edu
END:VEVENT
BEGIN:VEVENT
DTSTART;TZID=America/Chicago:20240925T100000
DTEND;TZID=America/Chicago:20240925T120000
DTSTAMP:20260425T071225
CREATED:20240701T172717Z
LAST-MODIFIED:20240813T131719Z
UID:4781-1727258400-1727265600@aaceal.com
SUMMARY:Education Career Fair
DESCRIPTION:You need to be logged in to view this content. Please Log In. Not a Member? Join Us
URL:https://aaceal.com/event/education-career-fair-2/
LOCATION:Hawkins Hall\, Troy University Campus\, Troy\, AL\, Hawkins Hall\, Troy\, AL\, 36082\, United States
CATEGORIES:Career Fair
ORGANIZER;CN="Troy University's Office of Career Services- Lauren Cole":MAILTO:troycareer@troy.edu or lscole@troy.edu
END:VEVENT
BEGIN:VEVENT
DTSTART;TZID=America/Chicago:20240919T100000
DTEND;TZID=America/Chicago:20240919T180000
DTSTAMP:20260425T071225
CREATED:20240813T131448Z
LAST-MODIFIED:20240813T131448Z
UID:5005-1726740000-1726768800@aaceal.com
SUMMARY:Fall Job Fair
DESCRIPTION:You need to be logged in to view this content. Please Log In. Not a Member? Join Us
URL:https://aaceal.com/event/fall-job-fair/
LOCATION:Calhoun Community College- Huntsville Campus\, Sparkman Building\, Huntsville\, AL\, United States
CATEGORIES:Career Fair
ORGANIZER;CN="Calhoun Community College- Rachel Reid":MAILTO:rachel.reid@calhoun.edu
END:VEVENT
BEGIN:VEVENT
DTSTART;TZID=America/Chicago:20240913T090000
DTEND;TZID=America/Chicago:20240913T120000
DTSTAMP:20260425T071225
CREATED:20240805T164905Z
LAST-MODIFIED:20240813T131731Z
UID:4938-1726218000-1726228800@aaceal.com
SUMMARY:College of Arts\, Humanities\, and Social Sciences College and Career Fair
DESCRIPTION:You need to be logged in to view this content. Please Log In. Not a Member? Join Us
URL:https://aaceal.com/event/college-of-arts-humanities-and-social-sciences-college-and-career-fair/
LOCATION:Morton Hall- UAH\, 1310 Ben Graves Drive\, Huntsville\, AL\, 35899\, United States
CATEGORIES:Career Fair
ORGANIZER;CN="UAH Career Services%3A Nicole McDavid":MAILTO:nicole.mcdavid@uah.edu
END:VEVENT
BEGIN:VEVENT
DTSTART;VALUE=DATE:20240724
DTEND;VALUE=DATE:20240727
DTSTAMP:20260425T071225
CREATED:20230811T163724Z
LAST-MODIFIED:20230907T173455Z
UID:3993-1721779200-1722038399@aaceal.com
SUMMARY:2024 AACE Summer Conference
DESCRIPTION:You need to be logged in to view this content. Please Log In. Not a Member? Join Us
URL:https://aaceal.com/event/2024-aace-summer-conference/
CATEGORIES:Conference
END:VEVENT
BEGIN:VEVENT
DTSTART;TZID=America/Chicago:20240529T130000
DTEND;TZID=America/Chicago:20240529T140000
DTSTAMP:20260425T071225
CREATED:20240502T133624Z
LAST-MODIFIED:20240502T133910Z
UID:4495-1716987600-1716991200@aaceal.com
SUMMARY:May Coffee Chat- Behind the Scene with AACE
DESCRIPTION:You need to be logged in to view this content. Please Log In. Not a Member? Join Us
URL:https://aaceal.com/event/may-coffee-chat-behind-the-scene-with-aace/
LOCATION:Virtual Event
CATEGORIES:Coffee Chat
END:VEVENT
BEGIN:VEVENT
DTSTART;TZID=America/Chicago:20240508T090000
DTEND;TZID=America/Chicago:20240508T100000
DTSTAMP:20260425T071225
CREATED:20240502T205938Z
LAST-MODIFIED:20240502T205938Z
UID:4504-1715158800-1715162400@aaceal.com
SUMMARY:May Coffee Chat- Burning Questions- An AACE & GACE Partnership Chat
DESCRIPTION:You need to be logged in to view this content. Please Log In. Not a Member? Join Us
URL:https://aaceal.com/event/may-coffee-chat-burning-questions-an-aace-gace-partnership-chat/
END:VEVENT
BEGIN:VEVENT
DTSTART;TZID=America/Chicago:20240417T100000
DTEND;TZID=America/Chicago:20240417T120000
DTSTAMP:20260425T071225
CREATED:20240206T143143Z
LAST-MODIFIED:20240206T143143Z
UID:4357-1713348000-1713355200@aaceal.com
SUMMARY:Hall School of Journalism and Communication Career Fair
DESCRIPTION:You need to be logged in to view this content. Please Log In. Not a Member? Join Us
URL:https://aaceal.com/event/hall-school-of-journalism-and-communication-career-fair/
LOCATION:Lamar Higgins Ballrooms\, Trojan Center\, Troy Campus\, Trojan Center\, Troy\, AL\, 36082\, United States
ORGANIZER;CN="Troy University's Office of Career Services- Lauren Cole":MAILTO:troycareer@troy.edu or lscole@troy.edu
END:VEVENT
BEGIN:VEVENT
DTSTART;TZID=America/Chicago:20240410T110000
DTEND;TZID=America/Chicago:20240410T150000
DTSTAMP:20260425T071225
CREATED:20240307T141440Z
LAST-MODIFIED:20240307T141619Z
UID:4396-1712746800-1712761200@aaceal.com
SUMMARY:Teacher Recruitment Day
DESCRIPTION:You need to be logged in to view this content. Please Log In. Not a Member? Join Us
URL:https://aaceal.com/event/teacher-recruitment-day/
LOCATION:University of North Alabama- Guillot University Center
ORGANIZER;CN="University of North Alabama- Rickey McCreless":MAILTO:rjmccreless@una.edu
END:VEVENT
BEGIN:VEVENT
DTSTART;TZID=America/Chicago:20240405T100000
DTEND;TZID=America/Chicago:20240405T150000
DTSTAMP:20260425T071225
CREATED:20240306T222541Z
LAST-MODIFIED:20240306T222541Z
UID:4388-1712311200-1712329200@aaceal.com
SUMMARY:All Majors Career Fair/Research Symposium
DESCRIPTION:You need to be logged in to view this content. Please Log In. Not a Member? Join Us
URL:https://aaceal.com/event/all-majors-career-fair-research-symposium/
LOCATION:University of North Alabama- Guillot University Center
ORGANIZER;CN="University of North Alabama- Rickey McCreless":MAILTO:rjmccreless@una.edu
END:VEVENT
BEGIN:VEVENT
DTSTART;TZID=America/Chicago:20240402T100000
DTEND;TZID=America/Chicago:20240402T130000
DTSTAMP:20260425T071225
CREATED:20240116T172829Z
LAST-MODIFIED:20240116T173118Z
UID:4254-1712052000-1712062800@aaceal.com
SUMMARY:Health & Human Services Career Fair
DESCRIPTION:You need to be logged in to view this content. Please Log In. Not a Member? Join Us
URL:https://aaceal.com/event/health-human-services-career-fair/
LOCATION:Lamar Higgins Ballrooms\, Trojan Center\, Troy Campus\, Trojan Center\, Troy\, AL\, 36082\, United States
ORGANIZER;CN="Troy University's Office of Career Services- Lauren Cole":MAILTO:troycareer@troy.edu or lscole@troy.edu
END:VEVENT
BEGIN:VEVENT
DTSTART;TZID=America/Chicago:20240326T120000
DTEND;TZID=America/Chicago:20240326T140000
DTSTAMP:20260425T071225
CREATED:20240206T142244Z
LAST-MODIFIED:20240206T142244Z
UID:4350-1711454400-1711461600@aaceal.com
SUMMARY:Health Science Recruitment Fair
DESCRIPTION:You need to be logged in to view this content. Please Log In. Not a Member? Join Us
URL:https://aaceal.com/event/health-science-recruitment-fair-2/
LOCATION:Calhoun Community College- Huntsville Campus\, Sparkman Building\, Huntsville\, AL\, United States
ORGANIZER;CN="Calhoun Community College- Rachel Reid":MAILTO:rachel.reid@calhoun.edu
END:VEVENT
BEGIN:VEVENT
DTSTART;TZID=America/Chicago:20240312T090000
DTEND;TZID=America/Chicago:20240312T170000
DTSTAMP:20260425T071226
CREATED:20240306T222808Z
LAST-MODIFIED:20240306T222808Z
UID:4390-1710234000-1710262800@aaceal.com
SUMMARY:Public Service Career Expo and Job Fair
DESCRIPTION:You need to be logged in to view this content. Please Log In. Not a Member? Join Us
URL:https://aaceal.com/event/public-service-career-expo-and-job-fair/
LOCATION:541 W. College Street\, Florence\, AL\, 541 W. College Street\, Florence\, AL\, 35630\, United States
ORGANIZER;CN="University of North Alabama- Rickey McCreless":MAILTO:rjmccreless@una.edu
END:VEVENT
BEGIN:VEVENT
DTSTART;TZID=America/Chicago:20240306T100000
DTEND;TZID=America/Chicago:20240306T180000
DTSTAMP:20260425T071226
CREATED:20240206T142539Z
LAST-MODIFIED:20240206T142539Z
UID:4352-1709719200-1709748000@aaceal.com
SUMMARY:Calhoun's Spring Job Fair
DESCRIPTION:You need to be logged in to view this content. Please Log In. Not a Member? Join Us
URL:https://aaceal.com/event/calhouns-spring-job-fair/
LOCATION:Calhoun Community College- Decatur Campus\, Advanced Technology Center\, Calhoun Community College\, Decatur\, AL\, United States
ORGANIZER;CN="Calhoun Community College- Gail Floyd":MAILTO:gail.floyd@calhoun.edu
END:VEVENT
BEGIN:VEVENT
DTSTART;TZID=America/Chicago:20240306T100000
DTEND;TZID=America/Chicago:20240306T140000
DTSTAMP:20260425T071226
CREATED:20240116T173045Z
LAST-MODIFIED:20240116T174750Z
UID:4257-1709719200-1709733600@aaceal.com
SUMMARY:Sorrell College of Business Career Fair
DESCRIPTION:You need to be logged in to view this content. Please Log In. Not a Member? Join Us
URL:https://aaceal.com/event/sorrell-college-of-business-career-fair/
LOCATION:Stadium Towers\, 4th Floor\, Troy Campus\, Stadium Towers\, Troy\, 36082\, United States
ORGANIZER;CN="Troy University's Office of Career Services- Lauren Cole":MAILTO:troycareer@troy.edu or lscole@troy.edu
END:VEVENT
BEGIN:VEVENT
DTSTART;TZID=America/Chicago:20240305T100000
DTEND;TZID=America/Chicago:20240305T120000
DTSTAMP:20260425T071226
CREATED:20240116T174011Z
LAST-MODIFIED:20240116T174011Z
UID:4260-1709632800-1709640000@aaceal.com
SUMMARY:Education Career Fair
DESCRIPTION:You need to be logged in to view this content. Please Log In. Not a Member? Join Us
URL:https://aaceal.com/event/education-career-fair/
LOCATION:Hawkins Hall\, Troy University Campus\, Troy\, AL\, Hawkins Hall\, Troy\, AL\, 36082\, United States
ORGANIZER;CN="Troy University's Office of Career Services- Lauren Cole":MAILTO:troycareer@troy.edu or lscole@troy.edu
END:VEVENT
BEGIN:VEVENT
DTSTART;TZID=America/Chicago:20240226T120000
DTEND;TZID=America/Chicago:20240226T140000
DTSTAMP:20260425T071226
CREATED:20240206T142719Z
LAST-MODIFIED:20240206T142719Z
UID:4355-1708948800-1708956000@aaceal.com
SUMMARY:CIS Symposium
DESCRIPTION:You need to be logged in to view this content. Please Log In. Not a Member? Join Us
URL:https://aaceal.com/event/cis-symposium/
LOCATION:Calhoun Community College- Huntsville Campus\, MSC Building\, Huntsville\, AL\, 35805\, United States
ORGANIZER;CN="Calhoun Community College- Rachel Reid":MAILTO:rachel.reid@calhoun.edu
END:VEVENT
BEGIN:VEVENT
DTSTART;TZID=America/Chicago:20240222T110000
DTEND;TZID=America/Chicago:20240222T150000
DTSTAMP:20260425T071226
CREATED:20240307T141231Z
LAST-MODIFIED:20240307T141957Z
UID:4394-1708599600-1708614000@aaceal.com
SUMMARY:Nursing and Health Professions Recruitment Day
DESCRIPTION:You need to be logged in to view this content. Please Log In. Not a Member? Join Us
URL:https://aaceal.com/event/nursing-and-health-professions-recruitment-day/
LOCATION:University of North Alabama- Guillot University Center
ORGANIZER;CN="University of North Alabama- Rickey McCreless":MAILTO:rjmccreless@una.edu
END:VEVENT
BEGIN:VEVENT
DTSTART;TZID=America/Chicago:20240206T130000
DTEND;TZID=America/Chicago:20240206T160000
DTSTAMP:20260425T071226
CREATED:20240116T174543Z
LAST-MODIFIED:20240116T174543Z
UID:4262-1707224400-1707235200@aaceal.com
SUMMARY:Computer Science Career Fair
DESCRIPTION:You need to be logged in to view this content. Please Log In. Not a Member? Join Us
URL:https://aaceal.com/event/computer-science-career-fair/
LOCATION:Lamar Higgins Ballrooms\, Trojan Center\, Troy Campus\, Trojan Center\, Troy\, AL\, 36082\, United States
ORGANIZER;CN="Troy University's Office of Career Services- Lauren Cole":MAILTO:troycareer@troy.edu or lscole@troy.edu
END:VEVENT
END:VCALENDAR