BEGIN:VCALENDAR
VERSION:2.0
PRODID:-//Alabama Association of Colleges and Employers - ECPv6.15.20//NONSGML v1.0//EN
CALSCALE:GREGORIAN
METHOD:PUBLISH
X-WR-CALNAME:Alabama Association of Colleges and Employers
X-ORIGINAL-URL:https://aaceal.com
X-WR-CALDESC:Events for Alabama Association of Colleges and Employers
REFRESH-INTERVAL;VALUE=DURATION:PT1H
X-Robots-Tag:noindex
X-PUBLISHED-TTL:PT1H
BEGIN:VTIMEZONE
TZID:America/Chicago
BEGIN:DAYLIGHT
TZOFFSETFROM:-0600
TZOFFSETTO:-0500
TZNAME:CDT
DTSTART:20170312T080000
END:DAYLIGHT
BEGIN:STANDARD
TZOFFSETFROM:-0500
TZOFFSETTO:-0600
TZNAME:CST
DTSTART:20171105T070000
END:STANDARD
BEGIN:DAYLIGHT
TZOFFSETFROM:-0600
TZOFFSETTO:-0500
TZNAME:CDT
DTSTART:20180311T080000
END:DAYLIGHT
BEGIN:STANDARD
TZOFFSETFROM:-0500
TZOFFSETTO:-0600
TZNAME:CST
DTSTART:20181104T070000
END:STANDARD
BEGIN:DAYLIGHT
TZOFFSETFROM:-0600
TZOFFSETTO:-0500
TZNAME:CDT
DTSTART:20190310T080000
END:DAYLIGHT
BEGIN:STANDARD
TZOFFSETFROM:-0500
TZOFFSETTO:-0600
TZNAME:CST
DTSTART:20191103T070000
END:STANDARD
BEGIN:DAYLIGHT
TZOFFSETFROM:-0600
TZOFFSETTO:-0500
TZNAME:CDT
DTSTART:20200308T080000
END:DAYLIGHT
BEGIN:STANDARD
TZOFFSETFROM:-0500
TZOFFSETTO:-0600
TZNAME:CST
DTSTART:20201101T070000
END:STANDARD
END:VTIMEZONE
BEGIN:VTIMEZONE
TZID:UTC
BEGIN:STANDARD
TZOFFSETFROM:+0000
TZOFFSETTO:+0000
TZNAME:UTC
DTSTART:20170101T000000
END:STANDARD
END:VTIMEZONE
BEGIN:VEVENT
DTSTART;TZID=America/Chicago:20190212T100000
DTEND;TZID=America/Chicago:20190212T150000
DTSTAMP:20260425T102136
CREATED:20181017T172128Z
LAST-MODIFIED:20181017T172128Z
UID:1829-1549965600-1549983600@aaceal.com
SUMMARY:Career Fair: Non-Technical & Business - UAB
DESCRIPTION:
URL:https://aaceal.com/event/career-fair-non-technical-business-uab/
END:VEVENT
BEGIN:VEVENT
DTSTART;TZID=America/Chicago:20190205T130000
DTEND;TZID=America/Chicago:20190205T160000
DTSTAMP:20260425T102136
CREATED:20181017T172053Z
LAST-MODIFIED:20181017T172053Z
UID:1827-1549371600-1549382400@aaceal.com
SUMMARY:HireAJag Career Fair – University of South Alabama
DESCRIPTION:
URL:https://aaceal.com/event/hireajag-career-fair-university-of-south-alabama/
END:VEVENT
BEGIN:VEVENT
DTSTART;TZID=America/Chicago:20190204T120000
DTEND;TZID=America/Chicago:20190204T150000
DTSTAMP:20260425T102136
CREATED:20181114T225258Z
LAST-MODIFIED:20181114T230643Z
UID:2013-1549281600-1549292400@aaceal.com
SUMMARY:Health & Social Services Career Fair
DESCRIPTION:Please make plans to join us for the Health & Social Services Career Fair in the Ferguson Student Center! Students interested in pursuing a career in the health or social services will be at this fair. Specific academic programs include Nursing\, Social Work\, Psychology\, General Health Studies and Food and Nutrition. \n  \nDetails: \nHosted by the Career Center \nFebruary 4 \n12:00 –3:00 \nCost:  $100.00 \nContact Info: \nAngela Kelley \nwww.career.ua.edu \nakelley@ua.edu \nVenue \nFerguson Student Center \n751 Campus Drive\nTuscaloosa\, AL 35401
URL:https://aaceal.com/event/health-social-services-career-fair/
LOCATION:Ferguson Student Center\, 751 Campus Dr\, Tuscaloosa\, AL\, 35401\, United States
ORGANIZER;CN="The University of Alabama- Angela Kelley":MAILTO:akelley@sa.ua.edu
END:VEVENT
BEGIN:VEVENT
DTSTART;TZID=America/Chicago:20190130T083000
DTEND;TZID=America/Chicago:20190130T130000
DTSTAMP:20260425T102136
CREATED:20181017T172009Z
LAST-MODIFIED:20181115T144527Z
UID:1825-1548837000-1548853200@aaceal.com
SUMMARY:General Career Fair - UAH
DESCRIPTION:
URL:https://aaceal.com/event/general-career-fair-uah/
LOCATION:University Fitness Center- UAH\, 500 John Wright Dr NW\, Huntsville\, AL\, 35805\, United States
ORGANIZER;CN="UAH Career Services%3A Candace Phillips":MAILTO:candace.phillips@uah.edu
END:VEVENT
BEGIN:VEVENT
DTSTART;TZID=America/Chicago:20190129T100000
DTEND;TZID=America/Chicago:20190129T130000
DTSTAMP:20260425T102136
CREATED:20181211T205550Z
LAST-MODIFIED:20181211T205550Z
UID:2085-1548756000-1548766800@aaceal.com
SUMMARY:Internship and Part-Time Job Fair
DESCRIPTION:
URL:https://aaceal.com/event/internship-and-part-time-job-fair/
LOCATION:Student Center Ballroom- 3rd Floor\, Auburn University\, AL\, 36849\, United States
ORGANIZER;CN="Auburn University Career Center- Melvin K. Smith":MAILTO:MKS@auburn.edu
END:VEVENT
BEGIN:VEVENT
DTSTART;TZID=America/Chicago:20190123T110000
DTEND;TZID=America/Chicago:20190123T140000
DTSTAMP:20260425T102136
CREATED:20181017T171925Z
LAST-MODIFIED:20181017T171925Z
UID:1823-1548241200-1548252000@aaceal.com
SUMMARY:Healthcare Career Day – UAB
DESCRIPTION:
URL:https://aaceal.com/event/healthcare-career-day-uab/
END:VEVENT
BEGIN:VEVENT
DTSTART;TZID=America/Chicago:20190122T153000
DTEND;TZID=America/Chicago:20190122T170000
DTSTAMP:20260425T102136
CREATED:20181115T144955Z
LAST-MODIFIED:20181211T210219Z
UID:2024-1548171000-1548176400@aaceal.com
SUMMARY:Nursing & Teaching Career Fair - UAH
DESCRIPTION:
URL:https://aaceal.com/event/nursing-teaching-career-fair/
LOCATION:Conference Training Center\, 1410 Ben Graves Dr NW\,\, Huntsville\, AL\, 35816\, United States
ORGANIZER;CN="Christopher Smith":MAILTO:christopher.c.smith@uah.edu
END:VEVENT
BEGIN:VEVENT
DTSTART;TZID=UTC:20190111T083000
DTEND;TZID=UTC:20190111T160000
DTSTAMP:20260425T102136
CREATED:20180802T202308Z
LAST-MODIFIED:20181114T230024Z
UID:1632-1547195400-1547222400@aaceal.com
SUMMARY:AACE Winter Workshop
DESCRIPTION:Location: Tuscaloosa\, AL\nDate: January 11\, 2019\nRegistration will open on November 1\, 2018 and close December 31\, 2018\nSponsorships will remain the same as the tiers that we use at the annual conference\nRegistration fee will be $50\nRefunds available prior to December 31\, 2018\nAttire: College/Employer logo attire encouraged (business casual)
URL:https://aaceal.com/event/aace-winter-workshop-2/
LOCATION:Bryant Conference Center\, 240 Paul W. Bryant Drive\, Tuscaloosa\, AL\, 35401\, United States
CATEGORIES:Conference
ORGANIZER;CN="UAH Career Services%3A Candace Phillips":MAILTO:candace.phillips@uah.edu
END:VEVENT
BEGIN:VEVENT
DTSTART;TZID=America/Chicago:20190110T193000
DTEND;TZID=America/Chicago:20190110T220000
DTSTAMP:20260425T102136
CREATED:20181031T172123Z
LAST-MODIFIED:20181031T172123Z
UID:1936-1547148600-1547157600@aaceal.com
SUMMARY:Pre-Workshop Reception
DESCRIPTION:
URL:https://aaceal.com/event/pre-workshop-reception/
LOCATION:Black Warrior Brewing Co.\, 2216 University Blvd\, Tuscaloosa\, AL\, 35401\, United States
END:VEVENT
BEGIN:VEVENT
DTSTART;TZID=America/Chicago:20181211T080000
DTEND;TZID=America/Chicago:20181211T170000
DTSTAMP:20260425T102136
CREATED:20181211T210059Z
LAST-MODIFIED:20181211T210059Z
UID:2091-1544515200-1544547600@aaceal.com
SUMMARY:Auburn University (All Majors) Career Fair
DESCRIPTION:
URL:https://aaceal.com/event/auburn-university-all-majors-career-fair/
LOCATION:Student Center Ballroom- 3rd Floor\, Auburn University\, AL\, 36849\, United States
CATEGORIES:Career Fair
ORGANIZER;CN="Auburn University Career Center- Melvin K. Smith":MAILTO:MKS@auburn.edu
END:VEVENT
BEGIN:VEVENT
DTSTART;TZID=America/Chicago:20181114T173000
DTEND;TZID=America/Chicago:20181114T200000
DTSTAMP:20260425T102136
CREATED:20181017T171840Z
LAST-MODIFIED:20181017T171840Z
UID:1821-1542216600-1542225600@aaceal.com
SUMMARY:Dining Etiquette Dinner – University of South Alabama
DESCRIPTION:
URL:https://aaceal.com/event/dining-etiquette-dinner-university-of-south-alabama/
END:VEVENT
BEGIN:VEVENT
DTSTART;TZID=America/Chicago:20181113T110000
DTEND;TZID=America/Chicago:20181113T130000
DTSTAMP:20260425T102136
CREATED:20181017T171809Z
LAST-MODIFIED:20181017T171809Z
UID:1819-1542106800-1542114000@aaceal.com
SUMMARY:Careerpalooza – University of South Alabama
DESCRIPTION:
URL:https://aaceal.com/event/careerpalooza-university-of-south-alabama/
END:VEVENT
BEGIN:VEVENT
DTSTART;TZID=America/Chicago:20181108T140000
DTEND;TZID=America/Chicago:20181108T163000
DTSTAMP:20260425T102136
CREATED:20181017T171736Z
LAST-MODIFIED:20181017T171736Z
UID:1817-1541685600-1541694600@aaceal.com
SUMMARY:Teacher Recruitment Day – Athens State University
DESCRIPTION:
URL:https://aaceal.com/event/teacher-recruitment-day-athens-state-university/
END:VEVENT
BEGIN:VEVENT
DTSTART;TZID=America/Chicago:20181108T140000
DTEND;TZID=America/Chicago:20181108T163000
DTSTAMP:20260425T102136
CREATED:20180927T204152Z
LAST-MODIFIED:20180927T204152Z
UID:1807-1541685600-1541694600@aaceal.com
SUMMARY:Teacher Recruitment Fair – Athens State University
DESCRIPTION:
URL:https://aaceal.com/event/teacher-recruitment-fair-athens-state-university/
LOCATION:Sand ridge Student Center Ballroom\, 300 Beaty Street North\, Athens\, AL\, 35611\, United States
ORGANIZER;CN="Athens State University- Laura Allen":MAILTO:laura.allen@athens.edu
END:VEVENT
BEGIN:VEVENT
DTSTART;TZID=America/Chicago:20181108T080000
DTEND;TZID=America/Chicago:20181108T170000
DTSTAMP:20260425T102136
CREATED:20181017T171656Z
LAST-MODIFIED:20181017T171656Z
UID:1815-1541664000-1541696400@aaceal.com
SUMMARY:Study Abroad & Creating Future Opportunities – Troy University (Dothan)
DESCRIPTION:
URL:https://aaceal.com/event/study-abroad-creating-future-opportunities-troy-university-dothan/
END:VEVENT
BEGIN:VEVENT
DTSTART;TZID=UTC:20181030T140000
DTEND;TZID=UTC:20181030T180000
DTSTAMP:20260425T102136
CREATED:20180802T205634Z
LAST-MODIFIED:20180802T205634Z
UID:1665-1540908000-1540922400@aaceal.com
SUMMARY:Auburn University Career Fair
DESCRIPTION:xplore Auburn’s diverse student body and network with students from all disciplines. \nFill your open full-time and internship positions with qualified applicants by attending the All Majors Career Expo. Student attendees will be looking to go into industries including business\, sales\, public relations\, logistics\, consulting\, engineering\, and more. Increase your campus presence\, improve your student visibility\, and network with a variety of Auburn students! \nPLEASE NOTE: There are no available electrical outlets available in the Auburn University Student Center Ballrooms.  \nAuburn University Hotel 
URL:https://aaceal.com/event/auburn-university-career-fair/
LOCATION:Student Center Ballroom- 3rd Floor\, Auburn University\, AL\, 36849\, United States
CATEGORIES:Career Fair
ATTACH;FMTTYPE=image/png:https://aaceal.com/wp-content/uploads/2017/04/AUCF.png
ORGANIZER;CN="Auburn University Career Center- Melvin K. Smith":MAILTO:MKS@auburn.edu
END:VEVENT
BEGIN:VEVENT
DTSTART;TZID=UTC:20181016T080000
DTEND;TZID=UTC:20181016T150000
DTSTAMP:20260425T102136
CREATED:20180802T205437Z
LAST-MODIFIED:20180802T205437Z
UID:1663-1539676800-1539702000@aaceal.com
SUMMARY:Education Interview Day - Auburn University
DESCRIPTION:A day dedicated to meeting\, networking\, and interviewing the educators of tomorrow. \nCome to Auburn University to recruit education students looking to become future teachers. Education Interview Day allows you to interview several qualified applicants over the course of one day. From 9AM-10AM you will network with the students and schedule interviews. Interviews are then held from 10AM-3PM. Don’t miss this great opportunity connect with Auburn students! \nREGISTRATION FEES CANNOT BE TRANSFERRED TO ANOTHER OR UPCOMING EVENT. \nAuburn University Hotel 
URL:https://aaceal.com/event/education-interview-day-auburn-university-5/
LOCATION:Beard-Eaves Memorial Coliseum\, Auburn\, AL\, 36832\, United States
CATEGORIES:Career Fair
ATTACH;FMTTYPE=image/png:https://aaceal.com/wp-content/uploads/2017/04/EID_HandshakeBanner-01.png
ORGANIZER;CN="Auburn University Career Center- Melvin K. Smith":MAILTO:MKS@auburn.edu
END:VEVENT
BEGIN:VEVENT
DTSTART;TZID=UTC:20181004T080000
DTEND;TZID=UTC:20181004T163000
DTSTAMP:20260425T102136
CREATED:20180802T205213Z
LAST-MODIFIED:20180802T205213Z
UID:1661-1538640000-1538670600@aaceal.com
SUMMARY:Auburn University Co-Op Interview Day
DESCRIPTION:The most effective way for co-op employers to identify\, interview\, and hire the very best qualified co-op students is by coming to the Auburn campus and interviewing students during Co-Op Interview Day. Hope that you will join us! \nEmployers interested in possibly participating in the event should soon phone the Auburn Co-Op Program at 334-844-5410. For more information about Auburn’s Co-Op Program\, see: www.auburn.edu/co-op
URL:https://aaceal.com/event/auburn-university-co-op-interview-day/
LOCATION:Hotel at Auburn University & Dixon Conference Center\, 241 S. College St.\, Auburn\, AL\, 36830\, United States
CATEGORIES:Career Fair
ATTACH;FMTTYPE=image/png:https://aaceal.com/wp-content/uploads/2017/12/co-op.png
END:VEVENT
BEGIN:VEVENT
DTSTART;TZID=UTC:20181003T143000
DTEND;TZID=UTC:20181003T170000
DTSTAMP:20260425T102136
CREATED:20180802T205049Z
LAST-MODIFIED:20180802T205049Z
UID:1658-1538577000-1538586000@aaceal.com
SUMMARY:Auburn University College of Agriculture Career Fair
DESCRIPTION:The College of Agriculture invites your company to our  fall career fair  on October 3\, 2018 from 2:30 p.m. to 5:00  p.m.  at the Auburn University Alumni Center on the campus of Auburn University. The fair is a great opportunity for your company to meet with students of diverse backgrounds\, including\, Agricultural Economics and Rural Sociology \, Agricultural Communications\, Agronomy and Soils\, Animal Sciences\, Biosystems Engineering\, Environmental Science\, Fisheries and Allied Aquacultures\, Food Science\, Horticulture and Poultry Science.
URL:https://aaceal.com/event/auburn-university-college-of-agriculture-career-fair/
LOCATION:Tiger Walk Club at Jordan-Hare Stadium\, 251 S. Donahue Dr\, Auburn\, AL\, 36849\, United States
CATEGORIES:Career Fair
ATTACH;FMTTYPE=image/png:https://aaceal.com/wp-content/uploads/2018/08/ag-2018.png
ORGANIZER;CN="Auburn University College of Agriculture- Megan Ross":MAILTO:mhr0001@auburn.edu
END:VEVENT
BEGIN:VEVENT
DTSTART;TZID=UTC:20181003T140000
DTEND;TZID=UTC:20181003T180000
DTSTAMP:20260425T102136
CREATED:20180802T204824Z
LAST-MODIFIED:20180802T204824Z
UID:1654-1538575200-1538589600@aaceal.com
SUMMARY:Auburn University Building Science Fall Career Fair and Interviews
DESCRIPTION:Auburn University’s McWhorter School of Building Science invites you to participate in the Fall 2018 BSCI Career Fair and Interview Day. This year’s expo includes two events over the span of two days.\n\nThe Career Fair will take place on Wednesday\, October 3\, 2018 at the brand new Tiger Walk Club at the Jordan-Hare Stadium from 2:00 pm – 6:00 pm. Each company will have a table\, chairs\, lunch and snacks provided. You are welcome to bring your display\, handouts\, and giveaways; setup will begin at 12:00 pm – 2:00 pm. Lunch will be provided. Vendor tables will be assigned. When payment for the career fair has been received vendors will be allowed to select their table assignment.\nPlease make sure to list all representatives that will be attending the fair in order to coordinate the appropriate amount of food for lunch.\n\n\nInterview Day will take place the following morning on Thursday\, October 4\, 2018 (also at the Tiger Walk Club at Jordan-Hare Stadium) from 8:00 am – 12:00 pm. If you are participating in “Interview Day” you must interview the student at this location during this time. \nCost for this event is $1\,000. \n*For local hotel reservations go to the City of Auburn homepage http://www.auburnal.org/  (click visitor tab).
URL:https://aaceal.com/event/auburn-university-building-science-fall-career-fair-and-interviews/
LOCATION:Tiger Walk Club at Jordan-Hare Stadium\, 251 S. Donahue Dr\, Auburn\, AL\, 36849\, United States
CATEGORIES:Career Fair
ATTACH;FMTTYPE=image/png:https://aaceal.com/wp-content/uploads/2017/11/building-science.png
ORGANIZER;CN="Auburn University Building Sciences":MAILTO:bac0036@auburn.edu
END:VEVENT
BEGIN:VEVENT
DTSTART;TZID=UTC:20181002T180000
DTEND;TZID=UTC:20181002T200000
DTSTAMP:20260425T102136
CREATED:20180802T204435Z
LAST-MODIFIED:20180802T204435Z
UID:1651-1538503200-1538510400@aaceal.com
SUMMARY:Auburn University American Society of Civil Engineers Fall 2018 Career Fair
DESCRIPTION:The ASCE career fair is for Civil Engineering graduating seniors and undergraduate students in interested in internships and full-time positions for graduating students. Each semester\, ASCE hosts an annual career fair for graduating seniors and students interested in internships and full-time positions for graduating students. The fall 2018 ASCE Career Fairr will be held on October 2 from 6-8 PM at The Hotel at Auburn University & Dixon Conference Center. PLEASE NOTE: Time and location are subject to change. Employer check in begins at 5:00 PM. The cost of attendance will be $350.
URL:https://aaceal.com/event/auburn-university-american-society-of-civil-engineers-fall-2018-career-fair/
LOCATION:Hotel at Auburn University & Dixon Conference Center\, 241 S. College St.\, Auburn\, AL\, 36830\, United States
CATEGORIES:Career Fair
ATTACH;FMTTYPE=image/jpeg:https://aaceal.com/wp-content/uploads/2016/04/CC-Tower-Top-Narrow-OrangeBlue.jpg
ORGANIZER;CN="Auburn University ASCE Student Chapter VP- Andrew Bynum":MAILTO:apb0024@auburn.edu
END:VEVENT
BEGIN:VEVENT
DTSTART;TZID=UTC:20180926T140000
DTEND;TZID=UTC:20180926T180000
DTSTAMP:20260425T102136
CREATED:20180802T203800Z
LAST-MODIFIED:20180802T203800Z
UID:1648-1537970400-1537984800@aaceal.com
SUMMARY:Engineering & Technology Career Fair - Auburn University
DESCRIPTION:Connect with students enrolled in one of the top engineering programs in the country by attending the Engineering and Technology Career Fair. Student attendees will be looking to go into science\, technology\, engineering\, and mathematics fields. Additionally\, make the most of your time at Auburn by signing up to conduct next day interviews. Space fills up quickly\, so be sure to register now! \nNext Day Interviews are available from 9 am to 3 pm at Beard Eaves Memorial Coliseum. You can select this on your registration form. \nREGISTRATION FEES CANNOT BE TRANSFERRED TO ANOTHER OR UPCOMING EVENT. \nStay at The Hotel at Auburn University Hotel and Dixon Conference Center ($134): Deadline to reserve is Friday\, Sept. 7\, 2018\n*** https://gc.synxis.com/?Hotel=75989&template=RBE&shell=RBE&Group=180923CARE&arrive=09/23/2018  *** \nThe Hotel at AU and Dixon Conference Center is pleased to offer a reduced rate for Federal Government employees and members of the military.  Please call 344-821-8200 to make your reservation. \nAdditional Accommodations \nEvent Information Specifics coming soon
URL:https://aaceal.com/event/engineering-technology-career-fair-auburn-university/
LOCATION:Beard-Eaves Memorial Coliseum\, Auburn\, AL\, 36832\, United States
CATEGORIES:Career Fair
ATTACH;FMTTYPE=image/png:https://aaceal.com/wp-content/uploads/2018/08/ETCF_Handshake-01.png
ORGANIZER;CN="Auburn University Career Center- Melvin K. Smith":MAILTO:MKS@auburn.edu
END:VEVENT
BEGIN:VEVENT
DTSTART;TZID=UTC:20180925T150000
DTEND;TZID=UTC:20180925T180000
DTSTAMP:20260425T102136
CREATED:20180802T203554Z
LAST-MODIFIED:20180802T203554Z
UID:1645-1537887600-1537898400@aaceal.com
SUMMARY:Harbert College of Business Career Fair- Auburn University
DESCRIPTION:The Fall 2018 Harbert College of Business Career Fair provides opportunities for employers to interact students from undergraduate and graduate business programs. The Harbert College of Business has more than 5\,000 undergraduate and graduate students. \nFor more information on the Harbert College of Business programs\, please visit http://harbert.auburn.edu/about/fast-facts.php. \nIn addition to business majors\, students from other disciplines across campus are invited and encouraged to attend. \nPlease note: The Harbert College of Business Career Fair will be held from 3PM – 6PM Central Standard Time at the Beard-Eaves Memorial Coliseum.
URL:https://aaceal.com/event/harbert-college-of-business-career-fair-auburn-university-5/
LOCATION:Beard-Eaves Memorial Coliseum\, Auburn\, AL\, 36832\, United States
CATEGORIES:Career Fair
ATTACH;FMTTYPE=image/png:https://aaceal.com/wp-content/uploads/2018/08/HCoB-2018.png
ORGANIZER;CN="Auburn University Harbert College of Business%3A Alex Ritenbaugh":MAILTO:alex.ritenbaugh@auburn.edu
END:VEVENT
BEGIN:VEVENT
DTSTART;TZID=UTC:20180920T130000
DTEND;TZID=UTC:20180920T170000
DTSTAMP:20260425T102136
CREATED:20180802T201129Z
LAST-MODIFIED:20180802T201129Z
UID:1624-1537448400-1537462800@aaceal.com
SUMMARY:All Majors Career\, Internship\, & Co-Op Fair - Jacksonville State University
DESCRIPTION:The Fall 2018 Career Co-Op & Internship Fair is for students of all majors and all classifications.  It is a combined event w/ the Graduation Fair\, so this is a great event to recruit JSU’s graduating seniors (December graduation). \nThe cost is $275.00 for 2 recruiters (includes 1 6 ft. table\, 2 chairs\, organization name included on the listing published online and in handouts at the event)\, $50 for each additional recruiter.  The fee for non-profit organizations is $150.00\, and law enforcement is invited to participate for free. Deadline to register is August 29\, 2018.
URL:https://aaceal.com/event/all-majors-career-internship-co-op-fair-jacksonville-state-university-2/
LOCATION:Stephenson Gym\, Johnson Ave\, Jacksonville\, AL\, 36265\, United States
CATEGORIES:Career Fair
ORGANIZER;CN="Jacksonville State University Career Services - Jimmeka Leverette":MAILTO:Jleverette@jsu.edu
END:VEVENT
BEGIN:VEVENT
DTSTART;TZID=UTC:20180918T133000
DTEND;TZID=UTC:20180918T163000
DTSTAMP:20260425T102136
CREATED:20180802T203141Z
LAST-MODIFIED:20180802T203231Z
UID:1639-1537277400-1537288200@aaceal.com
SUMMARY:Human Development & Family Studies Internship & Professional Day - Auburn University
DESCRIPTION:Thank you for your interest in attending the HDFS Internship and Professional Day on Tuesday\, September 18th at the AU Alumni Center.  Students will attend from 1:30 to 4:30\, but we will open at 12:00 for you to set-up. A table\, two chairs and refreshments will be provided. There is no charge to attend. Our students look forward to meeting you and learning about volunteer\, service learning and internship opportunities with your program. See you there! \nThe HDFS Internship and Professional Day is designed to provide our program representatives with an opportunity to meet and to talk with our HDFS undergraduates about full-time internship and part-time volunteer opportunities with their organization. \nFor more information about our HDFS undergraduate programs\, please visit http://www.humsci.auburn.edu/hdfs/undergrad-main.php.
URL:https://aaceal.com/event/1639/
LOCATION:Auburn University Alumni Center\, 317 South College St\, Auburn\, AL\, 36849\, United States
CATEGORIES:Career Fair
ATTACH;FMTTYPE=image/png:https://aaceal.com/wp-content/uploads/2018/08/HDFS_logo.png
ORGANIZER;CN="Auburn University HDFS- Jamie Sailors":MAILTO:anderja@auburn.edu
END:VEVENT
BEGIN:VEVENT
DTSTART;TZID=UTC:20180913T140000
DTEND;TZID=UTC:20180913T170000
DTSTAMP:20260425T102136
CREATED:20180802T202926Z
LAST-MODIFIED:20180802T202926Z
UID:1637-1536847200-1536858000@aaceal.com
SUMMARY:Auburn University Supply Chain Management Career Fair - Auburn University
DESCRIPTION:The Supply Chain Management Career Fair provides opportunities for students to interact with a variety of companies and organizations offering internships and full-time employment opportunities in fields related to Supply Chain Management. \nThis event is exclusively available to students with a major or minor in Supply Chain Management. Pre-Business students who intend to major in Supply Chain Management are welcome to attend as well as MBA students with a concentration in Supply Chain Management. \nPlease note: The Supply Chain Management Career Fair will be held from 2PM – 5PM CST.
URL:https://aaceal.com/event/auburn-university-supply-chain-management-career-fair-auburn-university/
LOCATION:Student Center Ballroom- 3rd Floor\, Auburn University\, AL\, 36849\, United States
CATEGORIES:Career Fair
ATTACH;FMTTYPE=image/png:https://aaceal.com/wp-content/uploads/2017/04/H-AU-158-289-OfficeOfProfessionalAndCareerDevelopment.png
ORGANIZER;CN="Auburn University Harbert College of Business%3A Alex Ritenbaugh":MAILTO:alex.ritenbaugh@auburn.edu
END:VEVENT
BEGIN:VEVENT
DTSTART;TZID=UTC:20180908T090000
DTEND;TZID=UTC:20180908T130000
DTSTAMP:20260425T102136
CREATED:20180802T201426Z
LAST-MODIFIED:20180802T201426Z
UID:1629-1536397200-1536411600@aaceal.com
SUMMARY:Diversity Workforce Recruitment Fair - Jacksonville State University
DESCRIPTION:This Recruitment Fair will assist in getting the community\, students\, and alumni employment opportunities. It will provide an opportunity for students to prepare for the next chapter after graduation and alumni to make a career change if needed. The Diversity Workforce Recruitment Fair is hosted by the Black Alumni Chapter of the JSU National Alumni Association and co-sponsored by the JSU Alumni Relations and Career Services Offices. \n  \nThe cost is free for both participants and recruiters.
URL:https://aaceal.com/event/diversity-workforce-recruitment-fair-jacksonville-state-university/
LOCATION:Theron Montgomery Building Auditorium\, Jacksonville\, AL\, 36265\, United States
CATEGORIES:Career Fair
ORGANIZER;CN="Jacksonville State University Career Services - Jimmeka Leverette":MAILTO:Jleverette@jsu.edu
END:VEVENT
BEGIN:VEVENT
DTSTART;TZID=UTC:20180829T100000
DTEND;TZID=UTC:20180829T130000
DTSTAMP:20260425T102136
CREATED:20180802T202652Z
LAST-MODIFIED:20180802T202652Z
UID:1635-1535536800-1535547600@aaceal.com
SUMMARY:Internship & Part-Time Job Fair - Auburn University
DESCRIPTION:Attract qualified Auburn students to fill your open internship and part-time positions while increasing your exposure on campus. This fair is a great opportunity for you to network with Auburn students in a relaxed environment. This event is free for all employers\, so don’t miss out!
URL:https://aaceal.com/event/internship-part-time-job-fair-auburn-university-2/
LOCATION:UAB Hill Student Center Ballroom\, 1400 University Blvd\, Birmingham\, AL\, 35294\, United States
CATEGORIES:Career Fair
ATTACH;FMTTYPE=image/jpeg:https://aaceal.com/wp-content/uploads/2017/04/iptjffall17.jpg
ORGANIZER;CN="Auburn University Career Center- Melvin K. Smith":MAILTO:MKS@auburn.edu
END:VEVENT
BEGIN:VEVENT
DTSTART;TZID=UTC:20180419T080000
DTEND;TZID=UTC:20180419T170000
DTSTAMP:20260425T102136
CREATED:20180202T224555Z
LAST-MODIFIED:20180202T224555Z
UID:1410-1524124800-1524157200@aaceal.com
SUMMARY:Education Fair\, a Reverse Career Fair - Jacksonville State University
DESCRIPTION: School Systems browse exhibits of Spring 2018 teacher candidates to explore each candidates creativity and personality in action!  *Opportunities are also available to schedule afternoon interviews with selected teacher candidates!  \n  **Recruiter Registration Cost is $250.00 to attend 1 of the 2 education fairs\, or receive a discounted rate of $400 to attend both education fairs; payment must be made upfront to receive the discounted rate.  (Includes 2 recruiters\, each additional recruiter $50) Deadline to Register for Recruiters and Teacher Candidates is Thursday\, March 30\, 2018  \n***Late Recruiter Registrations will be charged an additional $150
URL:https://aaceal.com/event/education-fair-a-reverse-career-fair-jacksonville-state-university-3/
LOCATION:Pete Mathews Coliseum\, 775 Park Ave.\, Jacksonville\, AL\, 36265\, United States
CATEGORIES:Career Fair
END:VEVENT
BEGIN:VEVENT
DTSTART;TZID=UTC:20180327T140000
DTEND;TZID=UTC:20180327T180000
DTSTAMP:20260425T102136
CREATED:20171201T002024Z
LAST-MODIFIED:20171201T002347Z
UID:1286-1522159200-1522173600@aaceal.com
SUMMARY:Auburn University Career Fair - Auburn University
DESCRIPTION:Explore Auburn’s diverse student body and network with students from all disciplines. \nFill your open full-time and internship positions with qualified applicants by attending the All Majors Career Expo. Student attendees will be looking to go into industries including business\, sales\, public relations\, logistics\, consulting\, engineering\, and more. Increase your campus presence\, improve your student visibility\, and network with a variety of Auburn students! \nPLEASE NOTE: There are no available electrical outlets available in the Auburn University Student Center Ballrooms.  \nWar Eagle Partners Hotel Booking Rate\n*Government Rate: The Hotel at AU and Dixon Conference Center is pleased to offer a reduced rate for Federal Government employees and members of the military.  Please call 334-821-8200 to make your reservation and request the per diem government rate of $89.  Be prepared to present a valid Federal or Military ID at check in.* \nAdditional Accommodations
URL:https://aaceal.com/event/auburn-university-career-fair-auburn-university-3/
LOCATION:Student Center Ballroom- 3rd Floor\, Auburn University\, AL\, 36849\, United States
CATEGORIES:Career Fair
ATTACH;FMTTYPE=image/png:https://aaceal.com/wp-content/uploads/2017/11/AUCF_HomepageS18.png
ORGANIZER;CN="Auburn University Career Center- Melvin K. Smith":MAILTO:MKS@auburn.edu
END:VEVENT
END:VCALENDAR