BEGIN:VCALENDAR
VERSION:2.0
PRODID:-//Alabama Association of Colleges and Employers - ECPv6.15.20//NONSGML v1.0//EN
CALSCALE:GREGORIAN
METHOD:PUBLISH
X-WR-CALNAME:Alabama Association of Colleges and Employers
X-ORIGINAL-URL:https://aaceal.com
X-WR-CALDESC:Events for Alabama Association of Colleges and Employers
REFRESH-INTERVAL;VALUE=DURATION:PT1H
X-Robots-Tag:noindex
X-PUBLISHED-TTL:PT1H
BEGIN:VTIMEZONE
TZID:America/Chicago
BEGIN:DAYLIGHT
TZOFFSETFROM:-0600
TZOFFSETTO:-0500
TZNAME:CDT
DTSTART:20170312T080000
END:DAYLIGHT
BEGIN:STANDARD
TZOFFSETFROM:-0500
TZOFFSETTO:-0600
TZNAME:CST
DTSTART:20171105T070000
END:STANDARD
BEGIN:DAYLIGHT
TZOFFSETFROM:-0600
TZOFFSETTO:-0500
TZNAME:CDT
DTSTART:20180311T080000
END:DAYLIGHT
BEGIN:STANDARD
TZOFFSETFROM:-0500
TZOFFSETTO:-0600
TZNAME:CST
DTSTART:20181104T070000
END:STANDARD
BEGIN:DAYLIGHT
TZOFFSETFROM:-0600
TZOFFSETTO:-0500
TZNAME:CDT
DTSTART:20190310T080000
END:DAYLIGHT
BEGIN:STANDARD
TZOFFSETFROM:-0500
TZOFFSETTO:-0600
TZNAME:CST
DTSTART:20191103T070000
END:STANDARD
BEGIN:DAYLIGHT
TZOFFSETFROM:-0600
TZOFFSETTO:-0500
TZNAME:CDT
DTSTART:20200308T080000
END:DAYLIGHT
BEGIN:STANDARD
TZOFFSETFROM:-0500
TZOFFSETTO:-0600
TZNAME:CST
DTSTART:20201101T070000
END:STANDARD
END:VTIMEZONE
BEGIN:VTIMEZONE
TZID:UTC
BEGIN:STANDARD
TZOFFSETFROM:+0000
TZOFFSETTO:+0000
TZNAME:UTC
DTSTART:20180101T000000
END:STANDARD
END:VTIMEZONE
BEGIN:VEVENT
DTSTART;TZID=America/Chicago:20190415T080000
DTEND;TZID=America/Chicago:20190415T170000
DTSTAMP:20260425T073230
CREATED:20190415T200436Z
LAST-MODIFIED:20190415T200436Z
UID:2301-1555315200-1555347600@aaceal.com
SUMMARY:Technical and Engineering - The University of Alabama
DESCRIPTION:Visit https://career.sa.ua.edu/ for more information.
URL:https://aaceal.com/event/technical-and-engineering-the-university-of-alabama/
LOCATION:AL
END:VEVENT
BEGIN:VEVENT
DTSTART;TZID=America/Chicago:20190410T110000
DTEND;TZID=America/Chicago:20190410T140000
DTSTAMP:20260425T073230
CREATED:20181017T173043Z
LAST-MODIFIED:20181017T173043Z
UID:1857-1554894000-1554904800@aaceal.com
SUMMARY:Part time/ Summer/ Internship Job Fair – UAB
DESCRIPTION:
URL:https://aaceal.com/event/part-time-summer-internship-job-fair-uab/
LOCATION:AL
END:VEVENT
BEGIN:VEVENT
DTSTART;TZID=America/Chicago:20190410T100000
DTEND;TZID=America/Chicago:20190410T130000
DTSTAMP:20260425T073230
CREATED:20190311T205139Z
LAST-MODIFIED:20190311T205139Z
UID:2256-1554890400-1554901200@aaceal.com
SUMMARY:Career Fair - Trenholm State Community College
DESCRIPTION:
URL:https://aaceal.com/event/career-fair-trenholm-state-community-college/
LOCATION:Student Auditorium\, 3920 Troy Hw.\, Montgomery\, AL\, 36116\, United States
ORGANIZER;CN="Maria Richardson":MAILTO:mrichardson@trenholmstate.edu
END:VEVENT
BEGIN:VEVENT
DTSTART;TZID=America/Chicago:20190405T100000
DTEND;TZID=America/Chicago:20190405T130000
DTSTAMP:20260425T073230
CREATED:20181017T173006Z
LAST-MODIFIED:20181017T173006Z
UID:1855-1554458400-1554469200@aaceal.com
SUMMARY:Volunteer & Internship Fair – University of South Alabama
DESCRIPTION:
URL:https://aaceal.com/event/volunteer-internship-fair-university-of-south-alabama/
LOCATION:AL
END:VEVENT
BEGIN:VEVENT
DTSTART;TZID=America/Chicago:20190403T100000
DTEND;TZID=America/Chicago:20190403T130000
DTSTAMP:20260425T073230
CREATED:20181017T172936Z
LAST-MODIFIED:20181017T172936Z
UID:1853-1554285600-1554296400@aaceal.com
SUMMARY:USA Part-time & Summer Job Fair – University of South Alabama
DESCRIPTION:
URL:https://aaceal.com/event/usa-part-time-summer-job-fair-university-of-south-alabama/
LOCATION:AL
END:VEVENT
BEGIN:VEVENT
DTSTART;TZID=America/Chicago:20190403T073000
DTEND;TZID=America/Chicago:20190403T140000
DTSTAMP:20260425T073230
CREATED:20181017T172815Z
LAST-MODIFIED:20181017T172815Z
UID:1849-1554276600-1554300000@aaceal.com
SUMMARY:Education Career Fair – UAB
DESCRIPTION:
URL:https://aaceal.com/event/education-career-fair-uab/
LOCATION:AL
END:VEVENT
BEGIN:VEVENT
DTSTART;TZID=America/Chicago:20190403T000000
DTEND;TZID=America/Chicago:20190403T000000
DTSTAMP:20260425T073230
CREATED:20181017T172851Z
LAST-MODIFIED:20181017T172851Z
UID:1851-1554249600-1554249600@aaceal.com
SUMMARY:Teacher’s Career Fair – Troy University (Dothan)
DESCRIPTION:
URL:https://aaceal.com/event/teachers-career-fair-troy-university-dothan/
LOCATION:AL
END:VEVENT
BEGIN:VEVENT
DTSTART;TZID=America/Chicago:20190328T090000
DTEND;TZID=America/Chicago:20190328T113000
DTSTAMP:20260425T073230
CREATED:20181017T172715Z
LAST-MODIFIED:20181017T172715Z
UID:1847-1553763600-1553772600@aaceal.com
SUMMARY:Sales & Marketing Career Fair – University of South Alabama
DESCRIPTION:
URL:https://aaceal.com/event/sales-marketing-career-fair-university-of-south-alabama/
LOCATION:AL
END:VEVENT
BEGIN:VEVENT
DTSTART;TZID=America/Chicago:20190312T090000
DTEND;TZID=America/Chicago:20190312T113000
DTSTAMP:20260425T073230
CREATED:20181017T172642Z
LAST-MODIFIED:20181017T172642Z
UID:1845-1552381200-1552390200@aaceal.com
SUMMARY:Career Fair – Athens State University
DESCRIPTION:
URL:https://aaceal.com/event/career-fair-athens-state-university/
LOCATION:AL
END:VEVENT
BEGIN:VEVENT
DTSTART;TZID=America/Chicago:20190306T080000
DTEND;TZID=America/Chicago:20190306T170000
DTSTAMP:20260425T073230
CREATED:20181114T225718Z
LAST-MODIFIED:20181211T210324Z
UID:2019-1551859200-1551891600@aaceal.com
SUMMARY:Education Interview Day - University of Alabama
DESCRIPTION:Undergraduate and graduate students from the College of Education who are seeking full time teaching positions will attend this event. \n  \nDetails: \nHosted by the Career Center \nMarch 6\, 2019 \nCheck In 8::00 \nCost:  $100 \nContact Info: \nAngela Kelley \nwww.career.ua.edu \nakelley@sa.ua.edu \nVenue \nBryant Conference Center \n240 Paul W. Bryant Drive\nTuscaloosa\, AL 35401
URL:https://aaceal.com/event/education-interview-day-2/
LOCATION:Bryant Conference Center\, 240 Paul W. Bryant Drive\, Tuscaloosa\, AL\, 35401\, United States
ORGANIZER;CN="The University of Alabama- Angela Kelley":MAILTO:akelley@sa.ua.edu
END:VEVENT
BEGIN:VEVENT
DTSTART;TZID=America/Chicago:20190305T110000
DTEND;TZID=America/Chicago:20190305T130000
DTSTAMP:20260425T073230
CREATED:20181017T172605Z
LAST-MODIFIED:20181017T172605Z
UID:1843-1551783600-1551790800@aaceal.com
SUMMARY:Social Work Career Day – UAB
DESCRIPTION:
URL:https://aaceal.com/event/social-work-career-day-uab/
LOCATION:AL
END:VEVENT
BEGIN:VEVENT
DTSTART;TZID=America/Chicago:20190305T080000
DTEND;TZID=America/Chicago:20190305T150000
DTSTAMP:20260425T073230
CREATED:20181211T210005Z
LAST-MODIFIED:20181211T210005Z
UID:2089-1551772800-1551798000@aaceal.com
SUMMARY:Education Interview Day
DESCRIPTION:Please note: \nadditional table(s) $300.00 each
URL:https://aaceal.com/event/education-interview-day-3/
LOCATION:Beard-Eaves Memorial Coliseum\, Auburn\, AL\, 36832\, United States
ORGANIZER;CN="Auburn University Career Center- Melvin K. Smith":MAILTO:MKS@auburn.edu
END:VEVENT
BEGIN:VEVENT
DTSTART;TZID=America/Chicago:20190228T100000
DTEND;TZID=America/Chicago:20190228T123000
DTSTAMP:20260425T073230
CREATED:20181017T172528Z
LAST-MODIFIED:20181017T172528Z
UID:1841-1551348000-1551357000@aaceal.com
SUMMARY:Samford University & Internship Fair – Samford
DESCRIPTION:
URL:https://aaceal.com/event/samford-university-internship-fair-samford/
LOCATION:AL
END:VEVENT
BEGIN:VEVENT
DTSTART;TZID=America/Chicago:20190227T110000
DTEND;TZID=America/Chicago:20190227T140000
DTSTAMP:20260425T073230
CREATED:20181017T172451Z
LAST-MODIFIED:20181017T172451Z
UID:1839-1551265200-1551276000@aaceal.com
SUMMARY:Student Veteran Career Day – UAB
DESCRIPTION:
URL:https://aaceal.com/event/student-veteran-career-day-uab/
LOCATION:AL
END:VEVENT
BEGIN:VEVENT
DTSTART;TZID=America/Chicago:20190225T183000
DTEND;TZID=America/Chicago:20190225T203000
DTSTAMP:20260425T073230
CREATED:20181017T172413Z
LAST-MODIFIED:20181017T172413Z
UID:1837-1551119400-1551126600@aaceal.com
SUMMARY:Student Athlete Career Fair – UAB
DESCRIPTION:
URL:https://aaceal.com/event/student-athlete-career-fair-uab/
LOCATION:AL
END:VEVENT
BEGIN:VEVENT
DTSTART;TZID=America/Chicago:20190221T100000
DTEND;TZID=America/Chicago:20190221T150000
DTSTAMP:20260425T073230
CREATED:20181114T225533Z
LAST-MODIFIED:20181114T230815Z
UID:2017-1550743200-1550761200@aaceal.com
SUMMARY:Technical & Engineering Career Fair
DESCRIPTION:Join us for the Spring 2019 Career Fair where employers and students will have the chance to interact and discuss full-time and internship opportunities.  Academic programs include all majors within the College of Engineering; technical majors from the College of Arts and Sciences (Chemistry\, Geology\, etc.) and MIS\, Operations Management and MBA students will also attend. \n  \nDetails: \nHosted by the Career Center \nFebruary 21\, 2019 \n10:00 – 3:00 \nCost:  $650 for 4 recruiters \n  \nContact Info: \nAngela Kelley \nwww.career.ua.edu \nakelley@sa.ua.edu \nVenue \nColeman Coliseum \n323 Paul W Bryant Dr\nTuscaloosa\, AL 35401
URL:https://aaceal.com/event/technical-engineering-career-fair/
LOCATION:Coleman Coliseum\, 323 Paul W Bryant Dr \, Tuscaloosa\, AL\, 35401\, United States
ORGANIZER;CN="The University of Alabama- Angela Kelley":MAILTO:akelley@sa.ua.edu
END:VEVENT
BEGIN:VEVENT
DTSTART;TZID=America/Chicago:20190220T100000
DTEND;TZID=America/Chicago:20190220T150000
DTSTAMP:20260425T073230
CREATED:20181114T225430Z
LAST-MODIFIED:20181114T230731Z
UID:2015-1550656800-1550674800@aaceal.com
SUMMARY:General Interest & Business Career Fair
DESCRIPTION:Join us for the Spring 2019 Career Fair where employers and students will have the chance to interact and discuss full-time and internship opportunities. Academic programs include all majors across campus; undergraduate business majors\, specialty masters (Operations Management\, MIS\, Marketing) and MBA students also attend this fair. \n  \nDetails: \nHosted by the Career Center \nFebruary 20\, 2019 \n10:00 –3:00 \nCost:  $650 for 4 recruiters \nContact Info: \nAngela Kelley \nwww.career.ua.edu \nakelley@ua.edu \nVenue \nColeman Coliseum \n323 Paul W Bryant Dr\nTuscaloosa\, AL 35401
URL:https://aaceal.com/event/general-interest-business-career-fair/
LOCATION:Coleman Coliseum\, 323 Paul W Bryant Dr \, Tuscaloosa\, AL\, 35401\, United States
ORGANIZER;CN="University of Alabama - Angela Kelley":MAILTO:akelley@ua.edu
END:VEVENT
BEGIN:VEVENT
DTSTART;TZID=America/Chicago:20190220T000000
DTEND;TZID=America/Chicago:20190221T000000
DTSTAMP:20260425T073230
CREATED:20181017T172337Z
LAST-MODIFIED:20181017T172337Z
UID:1835-1550620800-1550707200@aaceal.com
SUMMARY:Career Fair – The University of Alabama
DESCRIPTION:
URL:https://aaceal.com/event/career-fair-the-university-of-alabama/
LOCATION:AL
END:VEVENT
BEGIN:VEVENT
DTSTART;TZID=America/Chicago:20190213T100000
DTEND;TZID=America/Chicago:20190213T150000
DTSTAMP:20260425T073230
CREATED:20181017T172208Z
LAST-MODIFIED:20181017T172208Z
UID:1831-1550052000-1550070000@aaceal.com
SUMMARY:Career Fair: Technical & Engineering – UAB
DESCRIPTION:
URL:https://aaceal.com/event/career-fair-technical-engineering-uab/
LOCATION:AL
END:VEVENT
BEGIN:VEVENT
DTSTART;TZID=America/Chicago:20190212T140000
DTEND;TZID=America/Chicago:20190212T180000
DTSTAMP:20260425T073230
CREATED:20181211T205805Z
LAST-MODIFIED:20181211T205805Z
UID:2087-1549980000-1549994400@aaceal.com
SUMMARY:Engineering and Technology Career Fair
DESCRIPTION:Please note: \nNext Day Interviews | Wednesday\, February 13\, 2019 \n9:00 AM – 3:00 PM | Beard-Eaves Memorial Coliseum
URL:https://aaceal.com/event/engineering-and-technology-career-fair/
LOCATION:Beard-Eaves Memorial Coliseum\, Auburn\, AL\, 36832\, United States
ORGANIZER;CN="Auburn University Career Center- Melvin K. Smith":MAILTO:MKS@auburn.edu
END:VEVENT
BEGIN:VEVENT
DTSTART;TZID=America/Chicago:20190212T100000
DTEND;TZID=America/Chicago:20190212T150000
DTSTAMP:20260425T073230
CREATED:20181017T172128Z
LAST-MODIFIED:20181017T172128Z
UID:1829-1549965600-1549983600@aaceal.com
SUMMARY:Career Fair: Non-Technical & Business - UAB
DESCRIPTION:
URL:https://aaceal.com/event/career-fair-non-technical-business-uab/
LOCATION:AL
END:VEVENT
BEGIN:VEVENT
DTSTART;TZID=America/Chicago:20190205T130000
DTEND;TZID=America/Chicago:20190205T160000
DTSTAMP:20260425T073230
CREATED:20181017T172053Z
LAST-MODIFIED:20181017T172053Z
UID:1827-1549371600-1549382400@aaceal.com
SUMMARY:HireAJag Career Fair – University of South Alabama
DESCRIPTION:
URL:https://aaceal.com/event/hireajag-career-fair-university-of-south-alabama/
LOCATION:AL
END:VEVENT
BEGIN:VEVENT
DTSTART;TZID=America/Chicago:20190204T120000
DTEND;TZID=America/Chicago:20190204T150000
DTSTAMP:20260425T073230
CREATED:20181114T225258Z
LAST-MODIFIED:20181114T230643Z
UID:2013-1549281600-1549292400@aaceal.com
SUMMARY:Health & Social Services Career Fair
DESCRIPTION:Please make plans to join us for the Health & Social Services Career Fair in the Ferguson Student Center! Students interested in pursuing a career in the health or social services will be at this fair. Specific academic programs include Nursing\, Social Work\, Psychology\, General Health Studies and Food and Nutrition. \n  \nDetails: \nHosted by the Career Center \nFebruary 4 \n12:00 –3:00 \nCost:  $100.00 \nContact Info: \nAngela Kelley \nwww.career.ua.edu \nakelley@ua.edu \nVenue \nFerguson Student Center \n751 Campus Drive\nTuscaloosa\, AL 35401
URL:https://aaceal.com/event/health-social-services-career-fair/
LOCATION:Ferguson Student Center\, 751 Campus Dr\, Tuscaloosa\, AL\, 35401\, United States
ORGANIZER;CN="The University of Alabama- Angela Kelley":MAILTO:akelley@sa.ua.edu
END:VEVENT
BEGIN:VEVENT
DTSTART;TZID=America/Chicago:20190130T083000
DTEND;TZID=America/Chicago:20190130T130000
DTSTAMP:20260425T073230
CREATED:20181017T172009Z
LAST-MODIFIED:20181115T144527Z
UID:1825-1548837000-1548853200@aaceal.com
SUMMARY:General Career Fair - UAH
DESCRIPTION:
URL:https://aaceal.com/event/general-career-fair-uah/
LOCATION:University Fitness Center- UAH\, 500 John Wright Dr NW\, Huntsville\, AL\, 35805\, United States
ORGANIZER;CN="UAH Career Services%3A Candace Phillips":MAILTO:candace.phillips@uah.edu
END:VEVENT
BEGIN:VEVENT
DTSTART;TZID=America/Chicago:20190129T100000
DTEND;TZID=America/Chicago:20190129T130000
DTSTAMP:20260425T073230
CREATED:20181211T205550Z
LAST-MODIFIED:20181211T205550Z
UID:2085-1548756000-1548766800@aaceal.com
SUMMARY:Internship and Part-Time Job Fair
DESCRIPTION:
URL:https://aaceal.com/event/internship-and-part-time-job-fair/
LOCATION:Student Center Ballroom- 3rd Floor\, Auburn University\, AL\, 36849\, United States
ORGANIZER;CN="Auburn University Career Center- Melvin K. Smith":MAILTO:MKS@auburn.edu
END:VEVENT
BEGIN:VEVENT
DTSTART;TZID=America/Chicago:20190123T110000
DTEND;TZID=America/Chicago:20190123T140000
DTSTAMP:20260425T073231
CREATED:20181017T171925Z
LAST-MODIFIED:20181017T171925Z
UID:1823-1548241200-1548252000@aaceal.com
SUMMARY:Healthcare Career Day – UAB
DESCRIPTION:
URL:https://aaceal.com/event/healthcare-career-day-uab/
LOCATION:AL
END:VEVENT
BEGIN:VEVENT
DTSTART;TZID=America/Chicago:20190122T153000
DTEND;TZID=America/Chicago:20190122T170000
DTSTAMP:20260425T073231
CREATED:20181115T144955Z
LAST-MODIFIED:20181211T210219Z
UID:2024-1548171000-1548176400@aaceal.com
SUMMARY:Nursing & Teaching Career Fair - UAH
DESCRIPTION:
URL:https://aaceal.com/event/nursing-teaching-career-fair/
LOCATION:Conference Training Center\, 1410 Ben Graves Dr NW\,\, Huntsville\, AL\, 35816\, United States
ORGANIZER;CN="Christopher Smith":MAILTO:christopher.c.smith@uah.edu
END:VEVENT
BEGIN:VEVENT
DTSTART;TZID=UTC:20190111T083000
DTEND;TZID=UTC:20190111T160000
DTSTAMP:20260425T073231
CREATED:20180802T202308Z
LAST-MODIFIED:20181114T230024Z
UID:1632-1547195400-1547222400@aaceal.com
SUMMARY:AACE Winter Workshop
DESCRIPTION:Location: Tuscaloosa\, AL\nDate: January 11\, 2019\nRegistration will open on November 1\, 2018 and close December 31\, 2018\nSponsorships will remain the same as the tiers that we use at the annual conference\nRegistration fee will be $50\nRefunds available prior to December 31\, 2018\nAttire: College/Employer logo attire encouraged (business casual)
URL:https://aaceal.com/event/aace-winter-workshop-2/
LOCATION:Bryant Conference Center\, 240 Paul W. Bryant Drive\, Tuscaloosa\, AL\, 35401\, United States
CATEGORIES:Conference
ORGANIZER;CN="UAH Career Services%3A Candace Phillips":MAILTO:candace.phillips@uah.edu
END:VEVENT
BEGIN:VEVENT
DTSTART;TZID=America/Chicago:20190110T193000
DTEND;TZID=America/Chicago:20190110T220000
DTSTAMP:20260425T073231
CREATED:20181031T172123Z
LAST-MODIFIED:20181031T172123Z
UID:1936-1547148600-1547157600@aaceal.com
SUMMARY:Pre-Workshop Reception
DESCRIPTION:
URL:https://aaceal.com/event/pre-workshop-reception/
LOCATION:Black Warrior Brewing Co.\, 2216 University Blvd\, Tuscaloosa\, AL\, 35401\, United States
END:VEVENT
BEGIN:VEVENT
DTSTART;TZID=America/Chicago:20181211T080000
DTEND;TZID=America/Chicago:20181211T170000
DTSTAMP:20260425T073231
CREATED:20181211T210059Z
LAST-MODIFIED:20181211T210059Z
UID:2091-1544515200-1544547600@aaceal.com
SUMMARY:Auburn University (All Majors) Career Fair
DESCRIPTION:
URL:https://aaceal.com/event/auburn-university-all-majors-career-fair/
LOCATION:Student Center Ballroom- 3rd Floor\, Auburn University\, AL\, 36849\, United States
CATEGORIES:Career Fair
ORGANIZER;CN="Auburn University Career Center- Melvin K. Smith":MAILTO:MKS@auburn.edu
END:VEVENT
END:VCALENDAR