BEGIN:VCALENDAR
VERSION:2.0
PRODID:-//Alabama Association of Colleges and Employers - ECPv6.15.20//NONSGML v1.0//EN
CALSCALE:GREGORIAN
METHOD:PUBLISH
X-WR-CALNAME:Alabama Association of Colleges and Employers
X-ORIGINAL-URL:https://aaceal.com
X-WR-CALDESC:Events for Alabama Association of Colleges and Employers
REFRESH-INTERVAL;VALUE=DURATION:PT1H
X-Robots-Tag:noindex
X-PUBLISHED-TTL:PT1H
BEGIN:VTIMEZONE
TZID:America/Chicago
BEGIN:DAYLIGHT
TZOFFSETFROM:-0600
TZOFFSETTO:-0500
TZNAME:CDT
DTSTART:20240310T080000
END:DAYLIGHT
BEGIN:STANDARD
TZOFFSETFROM:-0500
TZOFFSETTO:-0600
TZNAME:CST
DTSTART:20241103T070000
END:STANDARD
BEGIN:DAYLIGHT
TZOFFSETFROM:-0600
TZOFFSETTO:-0500
TZNAME:CDT
DTSTART:20250309T080000
END:DAYLIGHT
BEGIN:STANDARD
TZOFFSETFROM:-0500
TZOFFSETTO:-0600
TZNAME:CST
DTSTART:20251102T070000
END:STANDARD
BEGIN:DAYLIGHT
TZOFFSETFROM:-0600
TZOFFSETTO:-0500
TZNAME:CDT
DTSTART:20260308T080000
END:DAYLIGHT
BEGIN:STANDARD
TZOFFSETFROM:-0500
TZOFFSETTO:-0600
TZNAME:CST
DTSTART:20261101T070000
END:STANDARD
BEGIN:DAYLIGHT
TZOFFSETFROM:-0600
TZOFFSETTO:-0500
TZNAME:CDT
DTSTART:20270314T080000
END:DAYLIGHT
BEGIN:STANDARD
TZOFFSETFROM:-0500
TZOFFSETTO:-0600
TZNAME:CST
DTSTART:20271107T070000
END:STANDARD
END:VTIMEZONE
BEGIN:VEVENT
DTSTART;TZID=America/Chicago:20250227T100000
DTEND;TZID=America/Chicago:20250227T180000
DTSTAMP:20260425T100935
CREATED:20241125T163006Z
LAST-MODIFIED:20241125T163006Z
UID:5120-1740650400-1740679200@aaceal.com
SUMMARY:Spring Job Fair
DESCRIPTION:This event is open to the public.
URL:https://aaceal.com/event/spring-job-fair/
LOCATION:Calhoun Community College- Decatur Campus\, Advanced Technology Center\, Calhoun Community College\, Decatur\, AL\, United States
CATEGORIES:Career Fair
ORGANIZER;CN="Kelli Morris":MAILTO:kelli.morris@calhoun.edu
END:VEVENT
BEGIN:VEVENT
DTSTART;TZID=America/Chicago:20250305T090000
DTEND;TZID=America/Chicago:20250305T100000
DTSTAMP:20260425T100935
CREATED:20250114T224301Z
LAST-MODIFIED:20250227T154446Z
UID:5198-1741165200-1741168800@aaceal.com
SUMMARY:AACE Coffee Chat: Social Media Best Practices and Partnerships
DESCRIPTION:
URL:https://aaceal.com/event/coffee-chat-social-media-best-practices-and-partnerships/
LOCATION:Virtual Event
CATEGORIES:Coffee Chat
END:VEVENT
BEGIN:VEVENT
DTSTART;TZID=America/Chicago:20250305T100000
DTEND;TZID=America/Chicago:20250305T140000
DTSTAMP:20260425T100935
CREATED:20241120T163751Z
LAST-MODIFIED:20241120T163751Z
UID:5102-1741168800-1741183200@aaceal.com
SUMMARY:Sorrell College of Business Career Fair
DESCRIPTION:
URL:https://aaceal.com/event/sorrell-college-of-business-career-fair-2/
LOCATION:John Robert Lewis Hall\, Troy University\, Troy\, AL\, Troy University\, John Robert Lewis Hall\, Troy\, AL\, 36082\, United States
CATEGORIES:Career Fair
ORGANIZER;CN="Troy University's Office of Career Services- Lauren Cole":MAILTO:troycareer@troy.edu or lscole@troy.edu
END:VEVENT
BEGIN:VEVENT
DTSTART;TZID=America/Chicago:20250312T100000
DTEND;TZID=America/Chicago:20250312T120000
DTSTAMP:20260425T100935
CREATED:20241210T213517Z
LAST-MODIFIED:20241210T213517Z
UID:5132-1741773600-1741780800@aaceal.com
SUMMARY:Education Career Fair
DESCRIPTION:
URL:https://aaceal.com/event/education-career-fair-3/
LOCATION:Hawkins Hall\, Troy University Campus\, Troy\, AL\, Hawkins Hall\, Troy\, AL\, 36082\, United States
CATEGORIES:Career Fair
ORGANIZER;CN="Troy University's Office of Career Services- Lauren Cole":MAILTO:troycareer@troy.edu or lscole@troy.edu
END:VEVENT
BEGIN:VEVENT
DTSTART;TZID=America/Chicago:20250325T110000
DTEND;TZID=America/Chicago:20250325T130000
DTSTAMP:20260425T100935
CREATED:20241125T163128Z
LAST-MODIFIED:20241125T163128Z
UID:5122-1742900400-1742907600@aaceal.com
SUMMARY:Spring Nursing Fair
DESCRIPTION:
URL:https://aaceal.com/event/spring-nursing-fair/
LOCATION:Calhoun Community College- Huntsville Campus\, Sparkman Building\, Huntsville\, AL\, United States
CATEGORIES:Career Fair
ORGANIZER;CN="Calhoun Community College- Rachel Reid":MAILTO:rachel.reid@calhoun.edu
END:VEVENT
BEGIN:VEVENT
DTSTART;TZID=America/Chicago:20250401T100000
DTEND;TZID=America/Chicago:20250401T130000
DTSTAMP:20260425T100935
CREATED:20241210T213924Z
LAST-MODIFIED:20241210T213924Z
UID:5134-1743501600-1743512400@aaceal.com
SUMMARY:Health Sciences Career Fair
DESCRIPTION:
URL:https://aaceal.com/event/health-sciences-career-fair/
CATEGORIES:Career Fair
ORGANIZER;CN="Troy University's Office of Career Services- Lauren Cole":MAILTO:troycareer@troy.edu or lscole@troy.edu
END:VEVENT
BEGIN:VEVENT
DTSTART;TZID=America/Chicago:20250402T090000
DTEND;TZID=America/Chicago:20250402T100000
DTSTAMP:20260425T100935
CREATED:20250114T224409Z
LAST-MODIFIED:20250114T224651Z
UID:5200-1743584400-1743588000@aaceal.com
SUMMARY:AACE Coffee Chat: Capturing Outcomes- A Chat on the First Destination Survey
DESCRIPTION:
URL:https://aaceal.com/event/coffee-chat-capturing-outcomes-a-chat-on-the-first-destination-survey/
LOCATION:Virtual Event
CATEGORIES:Coffee Chat
END:VEVENT
BEGIN:VEVENT
DTSTART;TZID=America/Chicago:20250416T100000
DTEND;TZID=America/Chicago:20250416T120000
DTSTAMP:20260425T100935
CREATED:20241210T214353Z
LAST-MODIFIED:20241210T214353Z
UID:5136-1744797600-1744804800@aaceal.com
SUMMARY:Hall School of Journalism and Communication Career Fair
DESCRIPTION:
URL:https://aaceal.com/event/hall-school-of-journalism-and-communication-career-fair-2/
LOCATION:Lamar Higgins Ballrooms\, Trojan Center\, Troy Campus\, Trojan Center\, Troy\, AL\, 36082\, United States
CATEGORIES:Career Fair
ORGANIZER;CN="Troy University's Office of Career Services- Lauren Cole":MAILTO:troycareer@troy.edu or lscole@troy.edu
END:VEVENT
BEGIN:VEVENT
DTSTART;TZID=America/Chicago:20250507T090000
DTEND;TZID=America/Chicago:20250507T100000
DTSTAMP:20260425T100936
CREATED:20250114T224455Z
LAST-MODIFIED:20250114T224625Z
UID:5202-1746608400-1746612000@aaceal.com
SUMMARY:AACE Coffee Chat: The Scoop on Fuel Alabama
DESCRIPTION:
URL:https://aaceal.com/event/coffee-chat-the-scoop-on-fuel-alabama/
LOCATION:Virtual Event
CATEGORIES:Coffee Chat
END:VEVENT
BEGIN:VEVENT
DTSTART;TZID=America/Chicago:20250722T080000
DTEND;TZID=America/Chicago:20250724T170000
DTSTAMP:20260425T100936
CREATED:20250512T160152Z
LAST-MODIFIED:20250512T160152Z
UID:5324-1753171200-1753376400@aaceal.com
SUMMARY:AACE Summer Conference
DESCRIPTION:
URL:https://aaceal.com/event/aace-summer-conference/
LOCATION:Coastal Alabama Community College\, Fairhope\, AL\, 450 Fairhope Ave\, Fairhope\, 36532\, United States
CATEGORIES:Conference
END:VEVENT
BEGIN:VEVENT
DTSTART;TZID=America/Chicago:20251216T140000
DTEND;TZID=America/Chicago:20251216T170000
DTSTAMP:20260425T100936
CREATED:20251211T155042Z
LAST-MODIFIED:20251211T155042Z
UID:5563-1765893600-1765904400@aaceal.com
SUMMARY:2025 Huntsville: ASmartPlace College Career Fair
DESCRIPTION:
URL:https://aaceal.com/event/2025-huntsville-asmartplace-college-career-fair/
LOCATION:The Atrium at Redstone Federal Credit Union\, 220 Wynn Drive NW\, Huntsville\, AL\, 35805\, United States
CATEGORIES:Career Fair
END:VEVENT
BEGIN:VEVENT
DTSTART;TZID=America/Chicago:20260130T080000
DTEND;TZID=America/Chicago:20260130T140000
DTSTAMP:20260425T100936
CREATED:20250915T163636Z
LAST-MODIFIED:20250915T163636Z
UID:5451-1769760000-1769781600@aaceal.com
SUMMARY:2026 AACE Winter Workshop
DESCRIPTION:
URL:https://aaceal.com/event/2026-aace-winter-workshop/
LOCATION:Jacksonville State University\, 1602 Pelham Rd N\, Jacksonville\, AL\, 36265\, United States
END:VEVENT
BEGIN:VEVENT
DTSTART;TZID=America/Chicago:20260202T130000
DTEND;TZID=America/Chicago:20260202T160000
DTSTAMP:20260425T100936
CREATED:20251208T155220Z
LAST-MODIFIED:20251208T155220Z
UID:5533-1770037200-1770048000@aaceal.com
SUMMARY:Troy University Computer Science and Technology Career Fair
DESCRIPTION:
URL:https://aaceal.com/event/troy-university-computer-science-and-technology-career-fair/
LOCATION:Lamar Higgins Ballrooms\, Trojan Center\, Troy Campus\, Trojan Center\, Troy\, AL\, 36082\, United States
END:VEVENT
BEGIN:VEVENT
DTSTART;TZID=America/Chicago:20260304T100000
DTEND;TZID=America/Chicago:20260304T140000
DTSTAMP:20260425T100936
CREATED:20251208T155140Z
LAST-MODIFIED:20251208T155140Z
UID:5537-1772618400-1772632800@aaceal.com
SUMMARY:Troy University Sorrell College of Business Career Fair
DESCRIPTION:
URL:https://aaceal.com/event/troy-university-sorrell-college-of-business-career-fair-2/
LOCATION:Troy University
END:VEVENT
BEGIN:VEVENT
DTSTART;TZID=America/Chicago:20260305T113000
DTEND;TZID=America/Chicago:20260305T130000
DTSTAMP:20260425T100936
CREATED:20251208T155648Z
LAST-MODIFIED:20251208T155648Z
UID:5541-1772710200-1772715600@aaceal.com
SUMMARY:Huntingdon College Hire Me! Job and Internship Fair
DESCRIPTION:
URL:https://aaceal.com/event/huntingdon-college-hire-me-job-and-internship-fair/
LOCATION:Julia Walker Russell Dining Hall\, Montgomery\, AL
END:VEVENT
BEGIN:VEVENT
DTSTART;TZID=America/Chicago:20260311T100000
DTEND;TZID=America/Chicago:20260311T120000
DTSTAMP:20260425T100936
CREATED:20251208T160121Z
LAST-MODIFIED:20251208T160121Z
UID:5548-1773223200-1773230400@aaceal.com
SUMMARY:Troy University Education Career Fair
DESCRIPTION:
URL:https://aaceal.com/event/troy-university-education-career-fair-3/
LOCATION:Hawkins Hall\, Troy University Campus\, Troy\, AL\, Hawkins Hall\, Troy\, AL\, 36082\, United States
END:VEVENT
BEGIN:VEVENT
DTSTART;TZID=America/Chicago:20260312T100000
DTEND;TZID=America/Chicago:20260312T110000
DTSTAMP:20260425T100936
CREATED:20260216T172333Z
LAST-MODIFIED:20260216T172333Z
UID:5656-1773309600-1773313200@aaceal.com
SUMMARY:AACE Coffee Chat: AI & Technology in Career Services & Recruiting
DESCRIPTION:
URL:https://aaceal.com/event/aace-coffee-chat-ai-technology-in-career-services-recruiting/
END:VEVENT
BEGIN:VEVENT
DTSTART;TZID=America/Chicago:20260407T100000
DTEND;TZID=America/Chicago:20260407T130000
DTSTAMP:20260425T100936
CREATED:20251208T160241Z
LAST-MODIFIED:20251208T160241Z
UID:5550-1775556000-1775566800@aaceal.com
SUMMARY:Troy University Health Sciences Career Fair
DESCRIPTION:
URL:https://aaceal.com/event/troy-university-health-sciences-career-fair/
END:VEVENT
BEGIN:VEVENT
DTSTART;TZID=America/Chicago:20260409T100000
DTEND;TZID=America/Chicago:20260409T110000
DTSTAMP:20260425T100936
CREATED:20260216T172420Z
LAST-MODIFIED:20260216T172420Z
UID:5658-1775728800-1775732400@aaceal.com
SUMMARY:AACE Coffee Chat: Internship & Work-Based Learning Best Practices
DESCRIPTION:
URL:https://aaceal.com/event/aace-coffee-chat-internship-work-based-learning-best-practices/
END:VEVENT
BEGIN:VEVENT
DTSTART;TZID=America/Chicago:20260415T100000
DTEND;TZID=America/Chicago:20260415T120000
DTSTAMP:20260425T100936
CREATED:20251208T160401Z
LAST-MODIFIED:20251208T161257Z
UID:5552-1776247200-1776254400@aaceal.com
SUMMARY:Troy University Hall School of Journalism and Communication Career Fair
DESCRIPTION:
URL:https://aaceal.com/event/troy-university-hall-school-of-journalism-and-communication-career-fair/
CATEGORIES:Career Fair
END:VEVENT
BEGIN:VEVENT
DTSTART;TZID=America/Chicago:20260415T100000
DTEND;TZID=America/Chicago:20260415T160000
DTSTAMP:20260425T100936
CREATED:20260122T214802Z
LAST-MODIFIED:20260122T214802Z
UID:5632-1776247200-1776268800@aaceal.com
SUMMARY:University of North Alabama Experiential Expo
DESCRIPTION:
URL:https://aaceal.com/event/university-of-north-alabama-experiential-expo/
END:VEVENT
BEGIN:VEVENT
DTSTART;TZID=America/Chicago:20260514T100000
DTEND;TZID=America/Chicago:20260514T110000
DTSTAMP:20260425T100936
CREATED:20260216T172505Z
LAST-MODIFIED:20260216T172505Z
UID:5660-1778752800-1778756400@aaceal.com
SUMMARY:AACE Coffee Chat: Employer-College Partnerships & Regional Workforce Trends
DESCRIPTION:
URL:https://aaceal.com/event/aace-coffee-chat-employer-college-partnerships-regional-workforce-trends/
END:VEVENT
BEGIN:VEVENT
DTSTART;TZID=America/Chicago:20260722T080000
DTEND;TZID=America/Chicago:20260724T170000
DTSTAMP:20260425T100936
CREATED:20250915T164027Z
LAST-MODIFIED:20250915T164027Z
UID:5456-1784707200-1784912400@aaceal.com
SUMMARY:2026 AACE Summer Conference
DESCRIPTION:
URL:https://aaceal.com/event/2026-aace-summer-conference/
END:VEVENT
END:VCALENDAR