BEGIN:VCALENDAR
VERSION:2.0
PRODID:-//Alabama Association of Colleges and Employers - ECPv6.15.20//NONSGML v1.0//EN
CALSCALE:GREGORIAN
METHOD:PUBLISH
X-ORIGINAL-URL:https://aaceal.com
X-WR-CALDESC:Events for Alabama Association of Colleges and Employers
REFRESH-INTERVAL;VALUE=DURATION:PT1H
X-Robots-Tag:noindex
X-PUBLISHED-TTL:PT1H
BEGIN:VTIMEZONE
TZID:UTC
BEGIN:STANDARD
TZOFFSETFROM:+0000
TZOFFSETTO:+0000
TZNAME:UTC
DTSTART:20150101T000000
END:STANDARD
END:VTIMEZONE
BEGIN:VEVENT
DTSTART;TZID=UTC:20171004T100000
DTEND;TZID=UTC:20171004T123000
DTSTAMP:20260425T120006
CREATED:20170421T223533Z
LAST-MODIFIED:20170421T223939Z
UID:1054-1507111200-1507120200@aaceal.com
SUMMARY:Graduate School Info Day - Auburn University
DESCRIPTION:Graduate &\nProfessional School Expo\n\nOctober 2-5\n\nMon  Oct  2   Huntsville \nTue   Oct  3   Tuscaloosa \nTue   Oct  3   Birmingham \nWed  Oct  4   Auburn \nWed  Oct  4   Montgomery \nThu   Oct  5   Mobile
URL:https://aaceal.com/event/graduate-school-info-day-auburn-university/
LOCATION:Student Center Ballroom- 3rd Floor\, Auburn University\, AL\, 36849\, United States
CATEGORIES:Graduate School Information
ATTACH;FMTTYPE=image/png:https://aaceal.com/wp-content/uploads/2017/04/GSID_TVF16.png
END:VEVENT
BEGIN:VEVENT
DTSTART;TZID=UTC:20170203T100000
DTEND;TZID=UTC:20170203T140000
DTSTAMP:20260425T120006
CREATED:20161110T043511Z
LAST-MODIFIED:20170118T003039Z
UID:730-1486116000-1486130400@aaceal.com
SUMMARY:State of Alabama Graduate Program Career Fair- Auburn University
DESCRIPTION:
URL:https://aaceal.com/event/state-of-alabama-graduate-program-career-fair-auburn-university/
LOCATION:Auburn Marriott Grand National\,  3700 Suite 1\, Robert Trent Jones Trail\, Opelika\, AL\, 36801\, United States
CATEGORIES:Graduate School Information
ORGANIZER;CN="Auburn University Harbert College of Business%3A Frank Oprandy":MAILTO:fzo0003@auburn.edu
END:VEVENT
BEGIN:VEVENT
DTSTART;TZID=UTC:20161005T100000
DTEND;TZID=UTC:20161005T123000
DTSTAMP:20260425T120006
CREATED:20160511T192526Z
LAST-MODIFIED:20160531T203838Z
UID:494-1475661600-1475670600@aaceal.com
SUMMARY:Grad School Info Day- Auburn University
DESCRIPTION:Opportunity for students to learn more about graduate and professional school programs from around the state and the country.
URL:https://aaceal.com/event/grad-school-info-day-auburn-university/
LOCATION:Student Center Ballroom- 3rd Floor\, Auburn University\, AL\, 36849\, United States
CATEGORIES:Graduate School Information
ATTACH;FMTTYPE=image/jpeg:https://aaceal.com/wp-content/uploads/2016/04/GSID_TVF16.jpg
ORGANIZER;CN="Auburn University Career Center- Melvin K. Smith":MAILTO:MKS@auburn.edu
END:VEVENT
END:VCALENDAR